BEGIN:VCALENDAR
VERSION:2.0
PRODID:-//Club Ciclista Ruta 88 (antes Club Mammoth) - ECPv4.2.1.1//NONSGML v1.0//EN
CALSCALE:GREGORIAN
METHOD:PUBLISH
X-WR-CALNAME:Club Ciclista Ruta 88 (antes Club Mammoth)
X-ORIGINAL-URL:https://www.clubruta88.com
X-WR-CALDESC:Events for Club Ciclista Ruta 88 (antes Club Mammoth)
BEGIN:VEVENT
DTSTART;TZID=UTC+0:20080725T000000
DTEND;TZID=UTC+0:20080802T000000
DTSTAMP:20260421T232514
CREATED:20160510T175439
LAST-MODIFIED:20160510T175439
UID:59952-1216944000-1217635200@www.clubruta88.com
SUMMARY:TRANSALPINA JULIO
DESCRIPTION:Más Información e Inscripciones
URL:https://www.clubruta88.com/ruta/transalpina-julio/
CATEGORIES:Viaje (Viajes Mammoth)
END:VEVENT
END:VCALENDAR