BEGIN:VCALENDAR
VERSION:2.0
PRODID:-//Club Ciclista Ruta 88 (antes Club Mammoth) - ECPv4.2.1.1//NONSGML v1.0//EN
CALSCALE:GREGORIAN
METHOD:PUBLISH
X-WR-CALNAME:Club Ciclista Ruta 88 (antes Club Mammoth)
X-ORIGINAL-URL:https://www.clubruta88.com
X-WR-CALDESC:Events for Club Ciclista Ruta 88 (antes Club Mammoth)
BEGIN:VEVENT
DTSTART;TZID=UTC+0:20090501T000000
DTEND;TZID=UTC+0:20090511T000000
DTSTAMP:20260422T233436
CREATED:20160510T175510
LAST-MODIFIED:20160510T175510
UID:60071-1241136000-1242000000@www.clubruta88.com
SUMMARY:ISLAS CANARIAS. RUTA DE LOS VOLCANES.
DESCRIPTION:Una ruta de muchos\, muchos kilates. Puro mountain bike recorriendo casi todas las islas de archipiélago canario. Una forma de hacer turismo por las islas afortunadas disfrutando de nuestras bicis por caminos\, trialeras y sendas de la más alta calidad. La oportunidad de hacer un gran viaje con todo organizado por Viajes Mammoth.Información e inscripciones. 
URL:https://www.clubruta88.com/ruta/islas-canarias-ruta-de-los-volcanes/
CATEGORIES:Viaje (Viajes Mammoth)
END:VEVENT
BEGIN:VEVENT
DTSTART;TZID=UTC+0:20090501T000000
DTEND;TZID=UTC+0:20090503T000000
DTSTAMP:20260422T233436
CREATED:20160510T175510
LAST-MODIFIED:20160510T175510
UID:60072-1241136000-1241308800@www.clubruta88.com
SUMMARY:PUENTE DE MAYO: VIAJE A ASTURIAS
DESCRIPTION:Viaje organizado por el club con un interesante programa en el que se incluye la participación en la Marcha MTB de los Marineros. [Más información e inscripciones]
URL:https://www.clubruta88.com/ruta/puente-de-mayo-viaje-a-asturias-2/
CATEGORIES:Escapada (Club)
END:VEVENT
END:VCALENDAR