BEGIN:VCALENDAR
VERSION:2.0
PRODID:-//Club Ciclista Ruta 88 (antes Club Mammoth) - ECPv4.2.1.1//NONSGML v1.0//EN
CALSCALE:GREGORIAN
METHOD:PUBLISH
X-WR-CALNAME:Club Ciclista Ruta 88 (antes Club Mammoth)
X-ORIGINAL-URL:https://www.clubruta88.com
X-WR-CALDESC:Events for Club Ciclista Ruta 88 (antes Club Mammoth)
BEGIN:VEVENT
DTSTART;TZID=UTC+0:20090523T000000
DTEND;TZID=UTC+0:20090530T000000
DTSTAMP:20260424T122044
CREATED:20160510T175513
LAST-MODIFIED:20160510T175513
UID:60083-1243036800-1243641600@www.clubruta88.com
SUMMARY:SEMANA DE MOUNTAIN BIKE EN IBIZA 2009.
DESCRIPTION:Caminos pro el interior\, por las calas\, trialeras de subida y de bajada\, pistas\, playa\, turismo\, puestas de sol\, vida nocturna y muchas\, muchas ganas de hacer mountain bike. Son los ingredientes de un menú perfecto: una semana en Ibiza desconectando de todo excepto de la diversión y el mountain bike.Información e inscripciones. 
URL:https://www.clubruta88.com/ruta/semana-de-mountain-bike-en-ibiza-2009/
CATEGORIES:Viaje (Viajes Mammoth)
END:VEVENT
END:VCALENDAR