BEGIN:VCALENDAR
VERSION:2.0
PRODID:-//Club Ciclista Ruta 88 (antes Club Mammoth) - ECPv4.2.1.1//NONSGML v1.0//EN
CALSCALE:GREGORIAN
METHOD:PUBLISH
X-WR-CALNAME:Club Ciclista Ruta 88 (antes Club Mammoth)
X-ORIGINAL-URL:https://www.clubruta88.com
X-WR-CALDESC:Events for Club Ciclista Ruta 88 (antes Club Mammoth)
BEGIN:VEVENT
DTSTART;TZID=UTC+0:20090619T000000
DTEND;TZID=UTC+0:20090627T000000
DTSTAMP:20260426T020142
CREATED:20160510T175517
LAST-MODIFIED:20160510T175517
UID:60100-1245369600-1246060800@www.clubruta88.com
SUMMARY:FRIBURGO - NIZA EN BICI DE CARRETERA.
DESCRIPTION:Novedad en nuestro catálogo\, en 2009 ofrecemos a los "carreteros" un viaje para disfrutar plenamente de las sensaciones sobre las ruedas finas. Una buena forma de prepararnos para el verano.Información e inscripciones 
URL:https://www.clubruta88.com/ruta/friburgo-niza-en-bici-de-carretera/
CATEGORIES:Viaje (Viajes Mammoth)
END:VEVENT
END:VCALENDAR