BEGIN:VCALENDAR
VERSION:2.0
PRODID:-//Club Ciclista Ruta 88 (antes Club Mammoth) - ECPv4.2.1.1//NONSGML v1.0//EN
CALSCALE:GREGORIAN
METHOD:PUBLISH
X-WR-CALNAME:Club Ciclista Ruta 88 (antes Club Mammoth)
X-ORIGINAL-URL:https://www.clubruta88.com
X-WR-CALDESC:Events for Club Ciclista Ruta 88 (antes Club Mammoth)
BEGIN:VEVENT
DTSTART;TZID=UTC+0:20160324T000000
DTEND;TZID=UTC+0:20160327T000000
DTSTAMP:20260421T151842
CREATED:20160510T175943
LAST-MODIFIED:20160510T175943
UID:61095-1458777600-1459036800@www.clubruta88.com
SUMMARY:VIAJE A DENIA
DESCRIPTION:En Semana Santa proponemos desplazarnos a Denia para hacer 3 rutas de MTB por las montañas del Parque Natural del Macizo del Montgó\, Vall de Gallinera y Vall de Laguart.\n[Más información e inscripciones]
URL:https://www.clubruta88.com/ruta/viaje-a-denia/
CATEGORIES:Escapada (Club)
END:VEVENT
BEGIN:VEVENT
DTSTART;TZID=UTC+0:20160324T000000
DTEND;TZID=UTC+0:20160327T000000
DTSTAMP:20260421T151842
CREATED:20160510T175943
LAST-MODIFIED:20160510T175943
UID:61096-1458777600-1459036800@www.clubruta88.com
SUMMARY:TRAVESÍA MADRID ALICANTE
DESCRIPTION:Desde Viajes Mammoth nos proponen un interesante viaje-reto en bici para esta Semana Santa: ir de Madrid a Alicante en bici\, en 4 etapas\, largas\, con distancias que superan los 100 km.\n[Más información e inscripciones]\n
URL:https://www.clubruta88.com/ruta/travesia-madrid-alicante/
CATEGORIES:Viaje (Viajes Mammoth)
END:VEVENT
END:VCALENDAR