BEGIN:VCALENDAR
VERSION:2.0
PRODID:-//Club Ciclista Ruta 88 (antes Club Mammoth) - ECPv4.2.1.1//NONSGML v1.0//EN
CALSCALE:GREGORIAN
METHOD:PUBLISH
X-WR-CALNAME:Club Ciclista Ruta 88 (antes Club Mammoth)
X-ORIGINAL-URL:https://www.clubruta88.com
X-WR-CALDESC:Events for Club Ciclista Ruta 88 (antes Club Mammoth)
BEGIN:VEVENT
DTSTART;VALUE=DATE:20161210
DTEND;VALUE=DATE:20161210
DTSTAMP:20260420T024315
CREATED:20161201
LAST-MODIFIED:20161208
UID:67229-1481328000-1481414399@www.clubruta88.com
SUMMARY:LA RETUERTA
DESCRIPTION:
URL:https://www.clubruta88.com/ruta/la-retuerta/
LOCATION:España
GEO:40.738376;-3.581098
CATEGORIES:Ruta azul
END:VEVENT
END:VCALENDAR