BEGIN:VCALENDAR
VERSION:2.0
PRODID:-//Club Ciclista Ruta 88 (antes Club Mammoth) - ECPv4.2.1.1//NONSGML v1.0//EN
CALSCALE:GREGORIAN
METHOD:PUBLISH
X-WR-CALNAME:Club Ciclista Ruta 88 (antes Club Mammoth)
X-ORIGINAL-URL:https://www.clubruta88.com
X-WR-CALDESC:Events for Club Ciclista Ruta 88 (antes Club Mammoth)
BEGIN:VEVENT
DTSTART;VALUE=DATE:20161211
DTEND;VALUE=DATE:20161211
DTSTAMP:20260420T041322
CREATED:20161201
LAST-MODIFIED:20161206
UID:67230-1481414400-1481500799@www.clubruta88.com
SUMMARY:LA 3 EN 1
DESCRIPTION:
URL:https://www.clubruta88.com/ruta/la-3-en-1-2/
LOCATION:España
GEO:40.856242;-3.612737
CATEGORIES:Ruta negra
END:VEVENT
END:VCALENDAR