BEGIN:VCALENDAR
VERSION:2.0
PRODID:-//Club Ciclista Ruta 88 (antes Club Mammoth) - ECPv4.2.1.1//NONSGML v1.0//EN
CALSCALE:GREGORIAN
METHOD:PUBLISH
X-WR-CALNAME:Club Ciclista Ruta 88 (antes Club Mammoth)
X-ORIGINAL-URL:https://www.clubruta88.com
X-WR-CALDESC:Events for Club Ciclista Ruta 88 (antes Club Mammoth)
BEGIN:VEVENT
DTSTART;VALUE=DATE:20161224
DTEND;VALUE=DATE:20161224
DTSTAMP:20260422T235626
CREATED:20161211
LAST-MODIFIED:20161211
UID:67305-1482537600-1482623999@www.clubruta88.com
SUMMARY:RUTA NAVIDEÑA
DESCRIPTION:
URL:https://www.clubruta88.com/ruta/ruta-navidena-5/
LOCATION:España
GEO:40.856242;-3.612737
CATEGORIES:RUTA NAVIDEÑA
END:VEVENT
END:VCALENDAR