BEGIN:VCALENDAR
VERSION:2.0
PRODID:-//Club Ciclista Ruta 88 (antes Club Mammoth) - ECPv4.2.1.1//NONSGML v1.0//EN
CALSCALE:GREGORIAN
METHOD:PUBLISH
X-WR-CALNAME:Club Ciclista Ruta 88 (antes Club Mammoth)
X-ORIGINAL-URL:https://www.clubruta88.com
X-WR-CALDESC:Events for Club Ciclista Ruta 88 (antes Club Mammoth)
BEGIN:VEVENT
DTSTART;VALUE=DATE:20161231
DTEND;VALUE=DATE:20161231
DTSTAMP:20260423T091033
CREATED:20161214
LAST-MODIFIED:20161214
UID:67333-1483142400-1483228799@www.clubruta88.com
SUMMARY:RUTA DE FIN DE AÑO
DESCRIPTION:
URL:https://www.clubruta88.com/ruta/ruta-de-fin-de-ano-6/
LOCATION:España
GEO:40.514484;-3.763571
CATEGORIES:Ruta verde
END:VEVENT
BEGIN:VEVENT
DTSTART;VALUE=DATE:20161231
DTEND;VALUE=DATE:20161231
DTSTAMP:20260423T091033
CREATED:20161214
LAST-MODIFIED:20170322
UID:67334-1483142400-1483228799@www.clubruta88.com
SUMMARY:RUTA DE FIN DE AÑO
DESCRIPTION:
URL:https://www.clubruta88.com/ruta/ruta-de-fin-de-ano-6-2/
LOCATION:España
GEO:40.514484;-3.763571
CATEGORIES:Ruta azul
END:VEVENT
BEGIN:VEVENT
DTSTART;VALUE=DATE:20161231
DTEND;VALUE=DATE:20161231
DTSTAMP:20260423T091033
CREATED:20161214
LAST-MODIFIED:20170322
UID:67335-1483142400-1483228799@www.clubruta88.com
SUMMARY:RUTA DE FIN DE AÑO
DESCRIPTION:
URL:https://www.clubruta88.com/ruta/ruta-de-fin-de-ano-6-3/
LOCATION:España
GEO:40.514484;-3.763571
CATEGORIES:Ruta roja
END:VEVENT
BEGIN:VEVENT
DTSTART;VALUE=DATE:20161231
DTEND;VALUE=DATE:20161231
DTSTAMP:20260423T091033
CREATED:20161214
LAST-MODIFIED:20161229
UID:67397-1483142400-1483228799@www.clubruta88.com
SUMMARY:RUTA DE FIN DE AÑO
DESCRIPTION:
URL:https://www.clubruta88.com/ruta/ruta-de-fin-de-ano-6-3-2/
LOCATION:España
GEO:40.514484;-3.763571
CATEGORIES:Ruta negra
END:VEVENT
END:VCALENDAR