BEGIN:VCALENDAR
VERSION:2.0
PRODID:-//Club Ciclista Ruta 88 (antes Club Mammoth) - ECPv4.2.1.1//NONSGML v1.0//EN
CALSCALE:GREGORIAN
METHOD:PUBLISH
X-WR-CALNAME:Club Ciclista Ruta 88 (antes Club Mammoth)
X-ORIGINAL-URL:https://www.clubruta88.com
X-WR-CALDESC:Events for Club Ciclista Ruta 88 (antes Club Mammoth)
BEGIN:VEVENT
DTSTART;VALUE=DATE:20170115
DTEND;VALUE=DATE:20170115
DTSTAMP:20260424T091230
CREATED:20161121
LAST-MODIFIED:20170114
UID:67351-1484438400-1484524799@www.clubruta88.com
SUMMARY:¡¡¡ SUPENDIDA !!! VUELTA POR LA SIERRA NORTE
DESCRIPTION:
URL:https://www.clubruta88.com/ruta/vuelta-por-la-sierra-norte-2/
LOCATION:España
GEO:40.902777;-3.55548
CATEGORIES:Ruta de carretera
END:VEVENT
BEGIN:VEVENT
DTSTART;VALUE=DATE:20170115
DTEND;VALUE=DATE:20170115
DTSTAMP:20260424T091230
CREATED:20161215
LAST-MODIFIED:20170322
UID:67349-1484438400-1484524799@www.clubruta88.com
SUMMARY:LA SIERRA DE HOYO
DESCRIPTION:
URL:https://www.clubruta88.com/ruta/la-sierra-de-hoyo-11/
LOCATION:España
GEO:40.597808;-3.948698
CATEGORIES:Ruta azul
END:VEVENT
BEGIN:VEVENT
DTSTART;VALUE=DATE:20170115
DTEND;VALUE=DATE:20170115
DTSTAMP:20260424T091230
CREATED:20161215
LAST-MODIFIED:20170322
UID:67350-1484438400-1484524799@www.clubruta88.com
SUMMARY:LA SIERRA DE HOYO
DESCRIPTION:
URL:https://www.clubruta88.com/ruta/la-sierra-de-hoyo-11-2/
LOCATION:España
GEO:40.597808;-3.948698
CATEGORIES:Ruta verde
END:VEVENT
END:VCALENDAR