BEGIN:VCALENDAR
VERSION:2.0
PRODID:-//Club Ciclista Ruta 88 (antes Club Mammoth) - ECPv4.2.1.1//NONSGML v1.0//EN
CALSCALE:GREGORIAN
METHOD:PUBLISH
X-WR-CALNAME:Club Ciclista Ruta 88 (antes Club Mammoth)
X-ORIGINAL-URL:https://www.clubruta88.com
X-WR-CALDESC:Events for Club Ciclista Ruta 88 (antes Club Mammoth)
BEGIN:VEVENT
DTSTART;VALUE=DATE:20170121
DTEND;VALUE=DATE:20170121
DTSTAMP:20260424T184606
CREATED:20161215
LAST-MODIFIED:20161215
UID:67355-1484956800-1485043199@www.clubruta88.com
SUMMARY:GRAN VUELTA AL MONTE PENDÓN
DESCRIPTION:
URL:https://www.clubruta88.com/ruta/gran-vuelta-al-monte-pendon-8/
LOCATION:España
GEO:40.822145;-3.677268
CATEGORIES:Ruta negra
END:VEVENT
BEGIN:VEVENT
DTSTART;VALUE=DATE:20170121
DTEND;VALUE=DATE:20170121
DTSTAMP:20260424T184606
CREATED:20161215
LAST-MODIFIED:20161215
UID:67356-1484956800-1485043199@www.clubruta88.com
SUMMARY:GRAN VUELTA AL MONTE PENDÓN
DESCRIPTION:
URL:https://www.clubruta88.com/ruta/gran-vuelta-al-monte-pendon-8-2/
LOCATION:España
GEO:40.822145;-3.677268
CATEGORIES:Ruta roja
END:VEVENT
END:VCALENDAR