BEGIN:VCALENDAR
VERSION:2.0
PRODID:-//Club Ciclista Ruta 88 (antes Club Mammoth) - ECPv4.2.1.1//NONSGML v1.0//EN
CALSCALE:GREGORIAN
METHOD:PUBLISH
X-WR-CALNAME:Club Ciclista Ruta 88 (antes Club Mammoth)
X-ORIGINAL-URL:https://www.clubruta88.com
X-WR-CALDESC:Events for Club Ciclista Ruta 88 (antes Club Mammoth)
BEGIN:VEVENT
DTSTART;VALUE=DATE:20170122
DTEND;VALUE=DATE:20170122
DTSTAMP:20260424T200616
CREATED:20161215
LAST-MODIFIED:20170322
UID:67358-1485043200-1485129599@www.clubruta88.com
SUMMARY:LA DESPERNADA
DESCRIPTION:
URL:https://www.clubruta88.com/ruta/la-despernada-2/
LOCATION:España
GEO:40.447805;-3.995106
CATEGORIES:Ruta azul
END:VEVENT
BEGIN:VEVENT
DTSTART;VALUE=DATE:20170122
DTEND;VALUE=DATE:20170122
DTSTAMP:20260424T200616
CREATED:20161215
LAST-MODIFIED:20170109
UID:67359-1485043200-1485129599@www.clubruta88.com
SUMMARY:LA DESPERNADA
DESCRIPTION:
URL:https://www.clubruta88.com/ruta/la-despernada-2-2/
LOCATION:España
GEO:40.447805;-3.995106
CATEGORIES:Ruta verde
END:VEVENT
END:VCALENDAR