BEGIN:VCALENDAR
VERSION:2.0
PRODID:-//Club Ciclista Ruta 88 (antes Club Mammoth) - ECPv4.2.1.1//NONSGML v1.0//EN
CALSCALE:GREGORIAN
METHOD:PUBLISH
X-WR-CALNAME:Club Ciclista Ruta 88 (antes Club Mammoth)
X-ORIGINAL-URL:https://www.clubruta88.com
X-WR-CALDESC:Events for Club Ciclista Ruta 88 (antes Club Mammoth)
BEGIN:VEVENT
DTSTART;VALUE=DATE:20170205
DTEND;VALUE=DATE:20170205
DTSTAMP:20260425T154923
CREATED:20170202
LAST-MODIFIED:20170202
UID:67841-1486252800-1486339199@www.clubruta88.com
SUMMARY:GUADALIX MIRAFLORES
DESCRIPTION:
URL:https://www.clubruta88.com/ruta/guadalix-miraflores/
LOCATION:Madrid\, España
GEO:40.786105;-3.682357
CATEGORIES:Ruta azul
END:VEVENT
END:VCALENDAR