BEGIN:VCALENDAR
VERSION:2.0
PRODID:-//Club Ciclista Ruta 88 (antes Club Mammoth) - ECPv4.2.1.1//NONSGML v1.0//EN
CALSCALE:GREGORIAN
METHOD:PUBLISH
X-WR-CALNAME:Club Ciclista Ruta 88 (antes Club Mammoth)
X-ORIGINAL-URL:https://www.clubruta88.com
X-WR-CALDESC:Events for Club Ciclista Ruta 88 (antes Club Mammoth)
BEGIN:VEVENT
DTSTART;VALUE=DATE:20170212
DTEND;VALUE=DATE:20170212
DTSTAMP:20260426T003243
CREATED:20170130
LAST-MODIFIED:20170130
UID:67798-1486857600-1486943999@www.clubruta88.com
SUMMARY:LA CHOPERA DE MANZANARES
DESCRIPTION:
URL:https://www.clubruta88.com/ruta/la-chopera-de-manzanares-8/
LOCATION:España
GEO:40.727413;-3.859811
CATEGORIES:Ruta verde
END:VEVENT
BEGIN:VEVENT
DTSTART;VALUE=DATE:20170212
DTEND;VALUE=DATE:20170212
DTSTAMP:20260426T003243
CREATED:20170130
LAST-MODIFIED:20170130
UID:67800-1486857600-1486943999@www.clubruta88.com
SUMMARY:MARATÓN: CUENCA ALTA DEL MANZANARES
DESCRIPTION:
URL:https://www.clubruta88.com/ruta/la-chopera-de-manzanares-8-2/
LOCATION:España
GEO:40.727413;-3.859811
CATEGORIES:Ruta azul
END:VEVENT
END:VCALENDAR