BEGIN:VCALENDAR
VERSION:2.0
PRODID:-//Club Ciclista Ruta 88 (antes Club Mammoth) - ECPv4.2.1.1//NONSGML v1.0//EN
CALSCALE:GREGORIAN
METHOD:PUBLISH
X-WR-CALNAME:Club Ciclista Ruta 88 (antes Club Mammoth)
X-ORIGINAL-URL:https://www.clubruta88.com
X-WR-CALDESC:Events for Club Ciclista Ruta 88 (antes Club Mammoth)
BEGIN:VEVENT
DTSTART;VALUE=DATE:20191228
DTEND;VALUE=DATE:20191228
DTSTAMP:20260419T151901
CREATED:20190527
LAST-MODIFIED:20191217
UID:73603-1577491200-1577577599@www.clubruta88.com
SUMMARY:RUTA FIN DE AÑO
DESCRIPTION:Este año modificamos nuestra tradicional ruta en El Pardo debido a las restricciones ... pero nada nos detiene! Ya estamos revisando los recorridos para poder despedir este 2019 como se merece.\n\nTodas las rutas saldrán a la misma hora y del mismo sitio para podernos hacer una foto de familia.\n\nDespués de la ruta contaremos con un refrigerio a cargo del Club en el Rte. La Perdiz\, de donde salimos\, para despedirnos hasta el año que viene!. No será necesaria inscripción para participar del mismo. \n\nEsta ruta está reservada a socios.\n\nSobre el punto de encuentro:La salida y  llegada es en el aparcamiento del Complejo Deportivo de Somontes o en los aparcamientos cubiertos próximos al Restaurante La Perdíz\, dentro del propio complejo deportivo. Así no habrá que mover el coche para la post-ruta.
URL:https://www.clubruta88.com/ruta/ruta-fin-de-ano-4/
LOCATION:España
GEO:40.493021;-3.757163
CATEGORIES:Ruta verde
END:VEVENT
BEGIN:VEVENT
DTSTART;VALUE=DATE:20191228
DTEND;VALUE=DATE:20191228
DTSTAMP:20260419T151901
CREATED:20190527
LAST-MODIFIED:20191217
UID:73625-1577491200-1577577599@www.clubruta88.com
SUMMARY:RUTA FIN DE AÑO
DESCRIPTION:Este año modificamos nuestra tradicional ruta en El Pardo debido a las restricciones ... pero nada nos detiene! Ya estamos revisando los recorridos para poder despedir este 2019 como se merece.\n\nTodas las rutas saldrán a la misma hora y del mismo sitio para podernos hacer una foto de familia.\n\nDespués de la ruta contaremos con un refrigerio a cargo del Club en el Rte. La Perdiz\, de donde salimos\, para despedirnos hasta el año que viene!. No será necesaria inscripción para participar del mismo. \n\nEsta ruta está reservada a socios.\n\nSobre el punto de encuentro:La salida y  llegada es en el aparcamiento del Complejo Deportivo de Somontes o en los aparcamientos cubiertos próximos al Restaurante La Perdíz\, dentro del propio complejo deportivo. Así no habrá que mover el coche para la post-ruta.
URL:https://www.clubruta88.com/ruta/ruta-fin-de-ano-4-3/
LOCATION:España
GEO:40.493021;-3.757163
CATEGORIES:Ruta roja
END:VEVENT
BEGIN:VEVENT
DTSTART;VALUE=DATE:20191228
DTEND;VALUE=DATE:20191228
DTSTAMP:20260419T151901
CREATED:20190527
LAST-MODIFIED:20191217
UID:73626-1577491200-1577577599@www.clubruta88.com
SUMMARY:RUTA FIN DE AÑO
DESCRIPTION:Este año modificamos nuestra tradicional ruta en El Pardo debido a las restricciones ... pero nada nos detiene! Ya estamos revisando los recorridos para poder despedir este 2019 como se merece.\n\nTodas las rutas saldrán a la misma hora y del mismo sitio para podernos hacer una foto de familia.\n\nDespués de la ruta contaremos con un refrigerio a cargo del Club en el Rte. La Perdiz\, de donde salimos\, para despedirnos hasta el año que viene!. No será necesaria inscripción para participar del mismo. \n\nEsta ruta está reservada a socios.\n\nSobre el punto de encuentro:La salida y  llegada es en el aparcamiento del Complejo Deportivo de Somontes o en los aparcamientos cubiertos próximos al Restaurante La Perdíz\, dentro del propio complejo deportivo. Así no habrá que mover el coche para la post-ruta.
URL:https://www.clubruta88.com/ruta/ruta-fin-de-ano-4-2/
LOCATION:España
GEO:40.493021;-3.757163
CATEGORIES:Ruta azul
END:VEVENT
END:VCALENDAR