BEGIN:VCALENDAR
VERSION:2.0
PRODID:-//Club Ciclista Ruta 88 (antes Club Mammoth) - ECPv4.2.1.1//NONSGML v1.0//EN
CALSCALE:GREGORIAN
METHOD:PUBLISH
X-WR-CALNAME:Club Ciclista Ruta 88 (antes Club Mammoth)
X-ORIGINAL-URL:https://www.clubruta88.com
X-WR-CALDESC:Events for Club Ciclista Ruta 88 (antes Club Mammoth)
BEGIN:VEVENT
DTSTART;VALUE=DATE:20200111
DTEND;VALUE=DATE:20200111
DTSTAMP:20260422T133926
CREATED:20190527
LAST-MODIFIED:20200107
UID:73605-1578700800-1578787199@www.clubruta88.com
SUMMARY:LA CASCADA DEL HERVIDERO
DESCRIPTION:Esta ruta descubrirá nuevos senderos por la Dehesa de Moncalvillo llegando a la cada vez mas conocida Cascada del Hervidero. Una primera parte rodadora nos ayudará a calentar para terminar por zonas mas técnicas y senderos.\n
URL:https://www.clubruta88.com/ruta/la-cascada-del-hervidero-3/
LOCATION:España
GEO:40.691573;-3.609074
CATEGORIES:Ruta roja
END:VEVENT
END:VCALENDAR