BEGIN:VCALENDAR
VERSION:2.0
PRODID:-//Club Ciclista Ruta 88 (antes Club Mammoth) - ECPv4.2.1.1//NONSGML v1.0//EN
CALSCALE:GREGORIAN
METHOD:PUBLISH
X-WR-CALNAME:Club Ciclista Ruta 88 (antes Club Mammoth)
X-ORIGINAL-URL:https://www.clubruta88.com
X-WR-CALDESC:Events for Club Ciclista Ruta 88 (antes Club Mammoth)
BEGIN:VEVENT
DTSTART;VALUE=DATE:20200112
DTEND;VALUE=DATE:20200112
DTSTAMP:20260422T145704
CREATED:20190527
LAST-MODIFIED:20200110
UID:73606-1578787200-1578873599@www.clubruta88.com
SUMMARY:CORTADOS DE RIVAS Y LAGUNA DEL CAMPILLO
DESCRIPTION:Un clásico del club. Primero subiremos a los cortados de Rivas para tener una vista impresionante de la zona para luego dar una tranquila vuelta por la Laguna del Campillo.\n
URL:https://www.clubruta88.com/ruta/cortados-de-rivas-y-laguna-del-campillo/
LOCATION:España
GEO:40.37475;-3.535015
CATEGORIES:Ruta verde
END:VEVENT
BEGIN:VEVENT
DTSTART;VALUE=DATE:20200112
DTEND;VALUE=DATE:20200112
DTSTAMP:20260422T145704
CREATED:20190527
LAST-MODIFIED:20200110
UID:73811-1578787200-1578873599@www.clubruta88.com
SUMMARY:🔵 PERALES DEL RIO
DESCRIPTION:Ruta que\, saliendo de Perales del Rio\, pasará por S. Martín de la Vega y Titulcia a un ritmo moderado.
URL:https://www.clubruta88.com/ruta/perales-del-rio/
LOCATION:España
GEO:40.318043;-3.641489
CATEGORIES:Ruta de carretera
END:VEVENT
BEGIN:VEVENT
DTSTART;VALUE=DATE:20200112
DTEND;VALUE=DATE:20200112
DTSTAMP:20260422T145704
CREATED:20190527
LAST-MODIFIED:20200110
UID:73812-1578787200-1578873599@www.clubruta88.com
SUMMARY:🔴 PERALES DEL RIO
DESCRIPTION:Ruta que\, saliendo de Perales del Rio\, pasará por Titulcia y San Martín de la Vega a un ritmo moderado-alto.
URL:https://www.clubruta88.com/ruta/%f0%9f%94%b4-perales-del-rio/
LOCATION:España
GEO:40.318043;-3.641489
CATEGORIES:Ruta de carretera
END:VEVENT
BEGIN:VEVENT
DTSTART;VALUE=DATE:20200112
DTEND;VALUE=DATE:20200112
DTSTAMP:20260422T145704
CREATED:20190527
LAST-MODIFIED:20200110
UID:73813-1578787200-1578873599@www.clubruta88.com
SUMMARY:SENDEROS DE RIVAS
DESCRIPTION:La ruta discurre por la zona de los cortados de Rivas\, recorriendo senderos divertidos con fuertes desniveles. Iremos por medio de bosques totalmente colindantes con la ciudad y disfrutaremos de unas hermosas vistas de la región desde los cortados.\n\nTambién\, para que no todo sea subir y bajar\, daremos una tranquila vuelta por la Laguna del Campillo.
URL:https://www.clubruta88.com/ruta/senderos-de-rivas/
LOCATION:España
GEO:40.37475;-3.535015
CATEGORIES:Ruta azul
END:VEVENT
END:VCALENDAR