BEGIN:VCALENDAR
VERSION:2.0
PRODID:-//Club Ciclista Ruta 88 (antes Club Mammoth) - ECPv4.2.1.1//NONSGML v1.0//EN
CALSCALE:GREGORIAN
METHOD:PUBLISH
X-WR-CALNAME:Club Ciclista Ruta 88 (antes Club Mammoth)
X-ORIGINAL-URL:https://www.clubruta88.com
X-WR-CALDESC:Events for Club Ciclista Ruta 88 (antes Club Mammoth)
BEGIN:VEVENT
DTSTART;VALUE=DATE:20200125
DTEND;VALUE=DATE:20200125
DTSTAMP:20260423T091044
CREATED:20190527
LAST-MODIFIED:20200123
UID:73819-1579910400-1579996799@www.clubruta88.com
SUMMARY:TRIALERAS MITICAS DE PELAYOS
DESCRIPTION:Pues todo el que conozca la zona sabe a que nos referimos ... pero por si acaso.\n\nEn esta divertida ruta haremos (de bajada\, como está mandado) el Cerro de San Esteban\, el Barranco de Matatoros y las Zetas de Pelayos. También habrá subidas técnicas en esta ruta que será muy intensa en el incomparable entorno de Pelayos y el Embalse de San Juan
URL:https://www.clubruta88.com/ruta/trialeras-miticas-de-pelayos-2/
LOCATION:España
GEO:40.365307;-4.314931
CATEGORIES:Ruta roja
END:VEVENT
END:VCALENDAR