BEGIN:VCALENDAR
VERSION:2.0
PRODID:-//Club Ciclista Ruta 88 (antes Club Mammoth) - ECPv4.2.1.1//NONSGML v1.0//EN
CALSCALE:GREGORIAN
METHOD:PUBLISH
X-WR-CALNAME:Club Ciclista Ruta 88 (antes Club Mammoth)
X-ORIGINAL-URL:https://www.clubruta88.com
X-WR-CALDESC:Events for Club Ciclista Ruta 88 (antes Club Mammoth)
BEGIN:VEVENT
DTSTART;VALUE=DATE:20200126
DTEND;VALUE=DATE:20200126
DTSTAMP:20260423T103935
CREATED:20190527
LAST-MODIFIED:20200125
UID:73820-1579996800-1580083199@www.clubruta88.com
SUMMARY:PINARES DE LA PRESA MODIFICADA
DESCRIPTION:Nota: Se ha modificado el punto de encuentro.\n\nDespués de la dureza de la semana pasada\, este tendremos una ruta verde mucho más ajustada. En el arco inferior. También para compensar con la de la semana que viene que volverá a estar en el arco superior. \n\nEn resumen tendremos una tranquila vuelta por los pinares y campiñas entre Pelayos y San Martín\, con bonitas vistas de la Presa de San Juan. 
URL:https://www.clubruta88.com/ruta/pinares-de-la-presa/
LOCATION:España
GEO:40.365307;-4.314931
CATEGORIES:Ruta verde
END:VEVENT
BEGIN:VEVENT
DTSTART;VALUE=DATE:20200126
DTEND;VALUE=DATE:20200126
DTSTAMP:20260423T103935
CREATED:20190527
LAST-MODIFIED:20200125
UID:73821-1579996800-1580083199@www.clubruta88.com
SUMMARY:SENDEROS DE PELAYOS MODIFICADA
DESCRIPTION:Nota: Se ha modificado el punto de encuentro.\n\nRecorrido muy divertido pero asequible que transcurre en su mayor parte por las sendas y trialeras de los montes que delimitan por el sur el pantano San Juan.\n\nSe prestará especial atención al ritmo para que si\, por las características de la verde de esta semana\, algun verdeazulado quiere animarse a venir a esta ruta\, lo haga sin dudar.\n\nLa dificultad técnica corresponde sobre todo a un par de losas de piedra en subida y algún terreno también de subida algo roto. No es una ruta de grandes escalones ... aunque quien quiera podrá bajar también 4 escaloncitos. 😉 \n
URL:https://www.clubruta88.com/ruta/senderos-de-pelayos-5/
LOCATION:España
GEO:40.365307;-4.314931
CATEGORIES:Ruta azul
END:VEVENT
BEGIN:VEVENT
DTSTART;VALUE=DATE:20200126
DTEND;VALUE=DATE:20200126
DTSTAMP:20260423T103935
CREATED:20190527
LAST-MODIFIED:20200125
UID:73824-1579996800-1580083199@www.clubruta88.com
SUMMARY:LA BLANDIBLU (INICIACION CARRETERA Y GRUPO A)
DESCRIPTION:Pues eso\, una ruta blandita. (que alguno de los jóvenes no sabrá ni lo que era el blandiblú! 😉)\n\nSaliendo de Montecarmelo a la misma hora habrá dos grupos: \n\nEl grupo B se considerará de iniciación de carretera y tendrá un ritmo acorde para cubrir unos 75km y 500m de desnivel saliendo de Montecarmelo y pasando por Colmenar Viejo\, Soto del Real\, Manzanares y Cerceda. Ahí se parará para tomar cafecito y vuelta para Montecarmelo. Buena parte se hará por carril bici.\n\nAsí pues si tenías pensado hacer carretera y no te atrevías a salir con el club\, es tu día. Incluso si querías probar eso de la carretera ... ya le estas pidiendo la bici al vecino. 75 km con este desnivel y buena parte de carril\, es muy llevadero.\n\nPor supuesto también habrá un grupo A que adicionalmente harán la subida a Mataelpino y con un ritmo superior.  \n\nEDITADO 250120 Los responsables de la división de carretera quieren indicaros que:\n\nAmigos\, os informamos que desde la división de carretera hemos diseñado para este domingo una ruta con el perfil de iniciación y no hay duda que es así\, con nuestra experiencia acumulada de muchos años haciendo ciclomarchas de mucho renombre  y llevando rutas. \n\nPodemos garantizar que es totalmente asequible a todos los niveles puesto que hacemos 75 km. pero con poco desnivel.\nAlgunos de vosotros podéis pensar en menos km. pero tenéis que probar lo que decimos y si no es así se puede modificar y recortar en ruta\, pero estamos convencidos que todos lo haréis ¡¡PROBADLO!!.\n\nY no hay de que preocuparse por no poder seguir la ruta porque en nuestro CLUB no se deja tirado a ningún socio.\n\n
URL:https://www.clubruta88.com/ruta/la-blandiblu/
LOCATION:España
GEO:40.509122;-3.692555
CATEGORIES:Ruta de carretera
END:VEVENT
END:VCALENDAR