BEGIN:VCALENDAR
VERSION:2.0
PRODID:-//Club Ciclista Ruta 88 (antes Club Mammoth) - ECPv4.2.1.1//NONSGML v1.0//EN
CALSCALE:GREGORIAN
METHOD:PUBLISH
X-WR-CALNAME:Club Ciclista Ruta 88 (antes Club Mammoth)
X-ORIGINAL-URL:https://www.clubruta88.com
X-WR-CALDESC:Events for Club Ciclista Ruta 88 (antes Club Mammoth)
BEGIN:VEVENT
DTSTART;VALUE=DATE:20200208
DTEND;VALUE=DATE:20200208
DTSTAMP:20260424T084523
CREATED:20190527
LAST-MODIFIED:20200206
UID:73828-1581120000-1581206399@www.clubruta88.com
SUMMARY:🔴 /🔵  Soto - El Vellón
DESCRIPTION:Como siempre tendremos dos niveles para adaptarnos al máximo a tus preferencias.\n\nPor un lado el grupo A saldrá de Soto para ir hacia Miraflores\, Bustarviejo\, El Berrueco\, Atazar\, Uceda y el Vellón por el Espartal para luego volver completando unos 110km y 1300m de desnivel.\n\nEl grupo B por su parte recorrerá a un ritmo más contenido las pobalciones de Soto\, Guadalix\, Navalafuente\, Cabanillas\, El Berrueco\, Atazar\, Patones y el Vellos para luego volver completando unos 94km y 999m de desnivel. \n\n
URL:https://www.clubruta88.com/ruta/%f0%9f%94%b4-%f0%9f%94%b5-soto-el-vellon/
LOCATION:España
GEO:40.746727;-3.784994
CATEGORIES:Ruta de carretera
END:VEVENT
END:VCALENDAR