BEGIN:VCALENDAR
VERSION:2.0
PRODID:-//Club Ciclista Ruta 88 (antes Club Mammoth) - ECPv4.2.1.1//NONSGML v1.0//EN
CALSCALE:GREGORIAN
METHOD:PUBLISH
X-WR-CALNAME:Club Ciclista Ruta 88 (antes Club Mammoth)
X-ORIGINAL-URL:https://www.clubruta88.com
X-WR-CALDESC:Events for Club Ciclista Ruta 88 (antes Club Mammoth)
BEGIN:VEVENT
DTSTART;VALUE=DATE:20200209
DTEND;VALUE=DATE:20200209
DTSTAMP:20260424T103424
CREATED:20190527
LAST-MODIFIED:20200204
UID:73826-1581206400-1581292799@www.clubruta88.com
SUMMARY:CASTILLO DE AULENCIA
DESCRIPTION:En esta ruta daremos una vuelta por los alrededores de Villanueva de la Cañada subiendo unos de los muchos "Mortirolos" de Madrid y disfrutando del entorno de los ríos Aulencia y Guadarrama.
URL:https://www.clubruta88.com/ruta/castillo-de-aulencia-2/
LOCATION:España
GEO:40.447806;-3.996028
CATEGORIES:Ruta azul
END:VEVENT
BEGIN:VEVENT
DTSTART;VALUE=DATE:20200209
DTEND;VALUE=DATE:20200209
DTSTAMP:20260424T103424
CREATED:20190527
LAST-MODIFIED:20200206
UID:73827-1581206400-1581292799@www.clubruta88.com
SUMMARY:CASTILLO DE AULENCIA
DESCRIPTION:Ruta similar a la azul en las que se evitarán las subidas mas duras.\n\nEn esta ruta se dará una vuelta por los alrededores de Villanueva de la Cañada  disfrutando del entorno de los ríos Aulencia y Guadarrama.
URL:https://www.clubruta88.com/ruta/castillo-de-aulencia-3/
LOCATION:España
GEO:40.447806;-3.996028
CATEGORIES:Ruta verde
END:VEVENT
BEGIN:VEVENT
DTSTART;VALUE=DATE:20200209
DTEND;VALUE=DATE:20200209
DTSTAMP:20260424T103424
CREATED:20190527
LAST-MODIFIED:20200206
UID:73829-1581206400-1581292799@www.clubruta88.com
SUMMARY:LA JAROSA
DESCRIPTION:Divertida y técnica ruta por la Jarosa en la que se disfrutará de algunas de las mejores trialeras de la zona.
URL:https://www.clubruta88.com/ruta/la-jarosa-3/
LOCATION:España
GEO:40.667384;-4.131313
CATEGORIES:Ruta roja
END:VEVENT
END:VCALENDAR