BEGIN:VCALENDAR
VERSION:2.0
PRODID:-//Club Ciclista Ruta 88 (antes Club Mammoth) - ECPv4.2.1.1//NONSGML v1.0//EN
CALSCALE:GREGORIAN
METHOD:PUBLISH
X-WR-CALNAME:Club Ciclista Ruta 88 (antes Club Mammoth)
X-ORIGINAL-URL:https://www.clubruta88.com
X-WR-CALDESC:Events for Club Ciclista Ruta 88 (antes Club Mammoth)
BEGIN:VEVENT
DTSTART;VALUE=DATE:20240914
DTEND;VALUE=DATE:20240914
DTSTAMP:20260425T114051
CREATED:20240909
LAST-MODIFIED:20240911
UID:78472-1726272000-1726358399@www.clubruta88.com
SUMMARY:GUADALIX CONOCIO A JARAMA
DESCRIPTION:Como se intuye por el nombre\, la ruta discurre por el entorno de la desembocadura del río Guadalix en el río Jarama. Saldremos de la urbanización Club de Campo en dirección a Fuente del Fresno\, donde haremos prácticamente la totalidad del desnivel positivo de la ruta desde allí bajaremos al arroyo Viñuelas por un divertido sendero y seguiremos por pista buscando el río Jarama.\n\nUna vez en el Jarama\, aunque tendremos que hacer algún tramo más de pista\, la ruta discurre en su mayor parte por senderos próximos al río\, sin dificultades técnicas ni físicas\, pero divertidos y en buena parte sombreados hasta llegar al Parque de Las Huelgas\, donde podremos contemplar sus lagunas y observatorio de aves (o lo que queda de ellos).\n\nDesde aquí retornaremos a la urbanización Club de Campo pasando bajo la sombra de una de las encinas de más de 500 años de la Comunidad de Madrid.\n\n*****************\n\nSi no eres socio y vienes a probar tu primera ruta\, por favor\, apúntate en este enlace.\nUna vez apuntado no hace falta que te confirmemos nada ... simplemente preséntate en el punto de encuentro y hora indicados en la ficha de la ruta con tu bici preparada. Se bienvenido! \n\n\nNO SOCIOS\, INSCRIPCION Y NORMAS\n\n\n
URL:https://www.clubruta88.com/ruta/guadalix-conocio-a-jarama-3/
LOCATION:España
GEO:40.610267;-3.582121
CATEGORIES:Ruta verde
END:VEVENT
BEGIN:VEVENT
DTSTART;VALUE=DATE:20240914
DTEND;VALUE=DATE:20240914
DTSTAMP:20260425T114051
CREATED:20240909
LAST-MODIFIED:20240911
UID:78473-1726272000-1726358399@www.clubruta88.com
SUMMARY:GUADALIX CONOCIO A JARAMA
DESCRIPTION:La ruta azul es idéntica a la verde con la diferencia de que\, para darle más color\, azul por supuesto\, desde el arroyo Viñuelas subiremos en primer lugar hasta la Dehesa Boyal de Sanse. Allí daremos una vuelta por alguna de sus pistas. Hubiesemos preferido por los senderos ... pero con la normativa del parque de la Cuenca Alta del Manzanares hemos topado.\n\nDesde la Dehesa volveremos a bajar al Viñuelas y\, tras una sorpresa que nos reservamos\, retomamos el track de la ruta verde.\n\n*****************\n\nSi no eres socio y vienes a probar tu primera ruta\, por favor\, apúntate en este enlace.\nUna vez apuntado no hace falta que te confirmemos nada ... simplemente preséntate en el punto de encuentro y hora indicados en la ficha de la ruta con tu bici preparada. Se bienvenido! \n\n\nNO SOCIOS\, INSCRIPCION Y NORMAS\n\n\n
URL:https://www.clubruta88.com/ruta/plantilla-3/
LOCATION:España
GEO:40.610267;-3.582121
CATEGORIES:Ruta azul
END:VEVENT
END:VCALENDAR