BEGIN:VCALENDAR
VERSION:2.0
PRODID:-//Club Ciclista Ruta 88 (antes Club Mammoth) - ECPv4.2.1.1//NONSGML v1.0//EN
CALSCALE:GREGORIAN
METHOD:PUBLISH
X-WR-CALNAME:Club Ciclista Ruta 88 (antes Club Mammoth)
X-ORIGINAL-URL:https://www.clubruta88.com
X-WR-CALDESC:Events for Club Ciclista Ruta 88 (antes Club Mammoth)
BEGIN:VEVENT
DTSTART;VALUE=DATE:20240928
DTEND;VALUE=DATE:20240928
DTSTAMP:20260424T155122
CREATED:20240916
LAST-MODIFIED:20240924
UID:78476-1727481600-1727567999@www.clubruta88.com
SUMMARY:AGUJAS\, PIRAMIDES Y CHIMENEAS DE HADAS
DESCRIPTION:Versión lo más verde posible de la temática que tendremos este fin de semana.\n\nIntrigado por el titulo? ... bueno\, todo eso lo verás en las Cárcavas de Valdepeñas. 😉\n\nDesde la Presa del Pontón de la Oliva subiremos por la Pista del Canal de Isabel II hasta Alpedrete de la Sierra y desde allí nos encaminaremos hacia las Cárcavas donde disfrutaremos del espectáculo generado por la erosión del agua al discurrir torrencialmente por los suelos arcillosos que bajan hacia el Pontón de la Oliva.\n\n*****************\n\nSi no eres socio y vienes a probar tu primera ruta\, por favor\, apúntate en este enlace.\nUna vez apuntado no hace falta que te confirmemos nada ... simplemente preséntate en el punto de encuentro y hora indicados en la ficha de la ruta con tu bici preparada. Se bienvenido! \n\n\nNO SOCIOS\, INSCRIPCION Y NORMAS\n\n\n
URL:https://www.clubruta88.com/ruta/agujas-piramides-y-chimeneas-de-hadas-3/
LOCATION:España
GEO:40.8797163;-3.4440055
CATEGORIES:Ruta verde
END:VEVENT
BEGIN:VEVENT
DTSTART;VALUE=DATE:20240928
DTEND;VALUE=DATE:20240928
DTSTAMP:20260424T155122
CREATED:20240916
LAST-MODIFIED:20240916
UID:78477-1727481600-1727567999@www.clubruta88.com
SUMMARY:AGUJAS\, PIRAMIDES Y CHIMENEAS DE HADAS
DESCRIPTION:Intrigado por el titulo? ... bueno\, todo eso lo verás en las Cárcavas de Valdepeñas. 😉\n\nDesde la Presa del Pontón de la Oliva subiremos por la Pista del Canal de Isabel II hasta Alpedrete de la Sierra y desde allí nos encaminaremos hacia las Cárcavas donde disfrutaremos del espectáculo generado por la erosión del agua al discurrir torrencialmente por los suelos arcillosos que bajan hacia el Pontón de la Oliva.\n\n*****************\n\nSi no eres socio y vienes a probar tu primera ruta\, por favor\, apúntate en este enlace.\nUna vez apuntado no hace falta que te confirmemos nada ... simplemente preséntate en el punto de encuentro y hora indicados en la ficha de la ruta con tu bici preparada. Se bienvenido! \n\n\nNO SOCIOS\, INSCRIPCION Y NORMAS\n\n\n
URL:https://www.clubruta88.com/ruta/agujas-piramides-y-chimeneas-de-hadas-4/
LOCATION:España
GEO:40.8797163;-3.4440055
CATEGORIES:Ruta azul
END:VEVENT
BEGIN:VEVENT
DTSTART;VALUE=DATE:20240928
DTEND;VALUE=DATE:20240928
DTSTAMP:20260424T155122
CREATED:20240916
LAST-MODIFIED:20240916
UID:78478-1727481600-1727567999@www.clubruta88.com
SUMMARY:AGUJAS\, PIRAMIDES Y CHIMENEAS DE HADAS
DESCRIPTION:Intrigado por el titulo? ... bueno\, todo eso lo verás en las Cárcavas de Valdepeñas. 😉\n\nVersión roja de la temática que tendremos este fin de semana.\n\nDesde la Presa del Pontón de la Oliva subiremos por la Pista del Canal de Isabel II hasta Alpedrete de la Sierra y desde allí nos encaminaremos hacia las Cárcavas donde disfrutaremos del espectáculo generado por la erosión del agua al discurrir torrencialmente por los suelos arcillosos que bajan hacia el Pontón de la Oliva.\n\n*****************\n\nSi no eres socio y vienes a probar tu primera ruta\, por favor\, apúntate en este enlace.\nUna vez apuntado no hace falta que te confirmemos nada ... simplemente preséntate en el punto de encuentro y hora indicados en la ficha de la ruta con tu bici preparada. Se bienvenido! \n\n\nNO SOCIOS\, INSCRIPCION Y NORMAS\n\n\n
URL:https://www.clubruta88.com/ruta/agujas-piramides-y-chimeneas-de-hadas-5/
LOCATION:España
GEO:40.8797163;-3.4440055
CATEGORIES:Ruta roja
END:VEVENT
BEGIN:VEVENT
DTSTART;VALUE=DATE:20240928
DTEND;VALUE=DATE:20240928
DTSTAMP:20260424T155122
CREATED:20240924
LAST-MODIFIED:20240924
UID:78481-1727481600-1727567999@www.clubruta88.com
SUMMARY:LA TORRECILLA Y LA HORCA
DESCRIPTION:Si este fin de semana tienes ganas de aún más\, te ofrecemos en este nivel negro más de todo\n\nSaliendo desde el parking del Pontón de la Oliva haremos un amplio círculo que nos llevara a subir en primer el Cerro de la Torrecilla para luego girar hacia Tortuero y ciclar por el espectacular desfiladero de la Horca.\n\nLa vuelta la haremos por Valdepeñas de la Sierra y en todo el proceso Maqueda buscará todo lo bueno (y hay mucho) que tiene la zona en cuanto a técnica.\n\n\n*****************\n\nEsta ruta\, por sus características\, queda reservada a socios. Si quieres venir a conocernos mira el resto de propuestas que te ofrecemos. \n\n
URL:https://www.clubruta88.com/ruta/la-torrecilla-y-la-horca/
LOCATION:España
GEO:40.8797163;-3.4440055
CATEGORIES:Ruta negra
END:VEVENT
END:VCALENDAR