BEGIN:VCALENDAR
VERSION:2.0
PRODID:-//Club Ciclista Ruta 88 (antes Club Mammoth) - ECPv4.2.1.1//NONSGML v1.0//EN
CALSCALE:GREGORIAN
METHOD:PUBLISH
X-WR-CALNAME:Club Ciclista Ruta 88 (antes Club Mammoth)
X-ORIGINAL-URL:https://www.clubruta88.com
X-WR-CALDESC:Events for Club Ciclista Ruta 88 (antes Club Mammoth)
BEGIN:VEVENT
DTSTART;VALUE=DATE:20241005
DTEND;VALUE=DATE:20241005
DTSTAMP:20260424T035205
CREATED:20240930
LAST-MODIFIED:20240930
UID:78483-1728086400-1728172799@www.clubruta88.com
SUMMARY:TORRELODONES\, HOYO Y LA BERZOSA
DESCRIPTION:Pues el título lo dice casi todo. Saliendo de Torrelodones se describirá un circulo que tocará Hoyo y la Berzosa. Subidas largas pero tendidas a ritmo verde.\n\n\n*****************\n\nSi no eres socio y vienes a probar tu primera ruta\, por favor\, apúntate en este enlace.\nUna vez apuntado no hace falta que te confirmemos nada ... simplemente preséntate en el punto de encuentro y hora indicados en la ficha de la ruta con tu bici preparada. Se bienvenido! \n\n\nNO SOCIOS\, INSCRIPCION Y NORMAS\n\n\n
URL:https://www.clubruta88.com/ruta/torrelodones-hoyo-y-la-berzosa-2/
LOCATION:España
GEO:40.575648;-3.92485
CATEGORIES:Ruta verde
END:VEVENT
BEGIN:VEVENT
DTSTART;VALUE=DATE:20241005
DTEND;VALUE=DATE:20241005
DTSTAMP:20260424T035205
CREATED:20240930
LAST-MODIFIED:20241004
UID:78486-1728086400-1728172799@www.clubruta88.com
SUMMARY:SIERRA DE HOYO
DESCRIPTION:Mañana nos espera una ruta muy interesante. \n\nEmpecemos por lo fácil\, todo el termino municipal de Hoyo de Manzanares esta enclavado en el Parque Regional de la Cuenca alta del Manzanres y es reserva de la biosfera. Así que de naturaleza vamos bien. Espectacular.\n\nDesde su altura tienes una vista de decenas de km a la redonda. Las Rozas\, Madrid o el Valle de los Caídos ... te dara la sensación de estar viendo una maqueta. Así que de grandeza escénica vamos también servidos. \n\nHablando de grandeza. Si te gustan las aves\, pasamos al lado del Picazo\, donde el proyecto europeo Aquila E-Life está reintroduciendo el águila de Bonelli (o perdicera). Yo hoy eché de menos unos prismáticos\, pero bien grandes se las veía. \n\nEl terreno. "Divertido". Ya sabes. Un mix de pistas\, pistas rotas\, raices\, piedras\, canchos ... Momentos de darle al manillar y momentos de relax. Tanto de bajada como de subida.\n\nPor si eso de "darle al manillar" te preocupa. La ruta es inevitable que pueda tener algún paso que nos haga poner pie a tierra. Pero (excepto un tramo que no se si se incluirá en el track final pero que si se hace\,  nos bajaremos la inmensa mayoría) todos son de apenas unos metros. Unos pasines y estás encima de la bici de nuevo.\n\nY ya lo último. Sierra de Hoyo. Sierra.  Asique para arriba y para abajo ... y repetir varias veces. Muchas. Eso implica que la parte final estemos algo más cansados de lo habitual y que mejor ser un azul-azul para llevarlo hoy bien. Se respetará escrupulosamente el ritmo. Si quieres ir más rápido\, con Catena el domingo.😁😁😁 \n\nEn resumen. Ruta con un plus de exigencia\, perfectamente factible y muy\, muy bonita.\n\n\n\n*****************\n\nSi no eres socio y vienes a probar tu primera ruta\, por favor\, apúntate en este enlace.\nUna vez apuntado no hace falta que te confirmemos nada ... simplemente preséntate en el punto de encuentro y hora indicados en la ficha de la ruta con tu bici preparada. Se bienvenido! \n\n\nNO SOCIOS\, INSCRIPCION Y NORMAS\n\n\n
URL:https://www.clubruta88.com/ruta/sierra-de-hoyo-5/
LOCATION:España
GEO:40.575648;-3.92485
CATEGORIES:Ruta azul
END:VEVENT
END:VCALENDAR