BEGIN:VCALENDAR
VERSION:2.0
PRODID:-//Club Ciclista Ruta 88 (antes Club Mammoth) - ECPv4.2.1.1//NONSGML v1.0//EN
CALSCALE:GREGORIAN
METHOD:PUBLISH
X-WR-CALNAME:Club Ciclista Ruta 88 (antes Club Mammoth)
X-ORIGINAL-URL:https://www.clubruta88.com
X-WR-CALDESC:Events for Club Ciclista Ruta 88 (antes Club Mammoth)
BEGIN:VEVENT
DTSTART;VALUE=DATE:20241013
DTEND;VALUE=DATE:20241013
DTSTAMP:20260423T144036
CREATED:20241009
LAST-MODIFIED:20241009
UID:78487-1728777600-1728863999@www.clubruta88.com
SUMMARY:YO TAMBIEN GUIO EN EL PATIO DE MI CASA BY (OTRO) FRAN
DESCRIPTION:Y en el nivel azul tambien Fran\, aunque en este caso Jimenez\, nos llevará también por la zona que habitualmente recorre.\n\nEn este caso será por Villanueva del Pardillo donde enlazaremos los divertidos senderos y pistas que rodean esta localidad.\n\n\n*****************\n\nSi no eres socio y vienes a probar tu primera ruta\, por favor\, apúntate en este enlace.\nUna vez apuntado no hace falta que te confirmemos nada ... simplemente preséntate en el punto de encuentro y hora indicados en la ficha de la ruta con tu bici preparada. Se bienvenido! \n\n\nNO SOCIOS\, INSCRIPCION Y NORMAS\n\n\n
URL:https://www.clubruta88.com/ruta/yo-tambien-guio-en-el-patio-de-mi-casa-by-otro-fran/
LOCATION:España
GEO:40.491278;-3.960632
CATEGORIES:Ruta azul
END:VEVENT
BEGIN:VEVENT
DTSTART;VALUE=DATE:20241013
DTEND;VALUE=DATE:20241013
DTSTAMP:20260423T144036
CREATED:20241010
LAST-MODIFIED:20241010
UID:78490-1728777600-1728863999@www.clubruta88.com
SUMMARY:LA ERMITA DE COLMENAREJO DESDE VILLANUEVA DEL PARDILLO
DESCRIPTION:El titulo ya nos dice lo que haremos en esta ruta\, llegarnos hasta hasta la Ermita de Colmenarejo (pegadita al pantano de Valmayor) desde Villanueva del Pardillo.\n\nLo haremos por pistas cómodas y senderos con la única dificultad de lo roto que pueda haber dejado las últimas lluvias.\n\nEn particular la subida la haremos por la antigua carretera de Villanueva hasta el "Mirador de Madrid". Buena parte del desnivel de la ruta lo gastaremos en esta subida que haremos a ritmo verde\n\nLa vuelta\, tras parada en la ermita\, la realizaremos por la zona conocida como Los Ranchos en una continua bajada que nos llevará directamente hasta el Pardillo.\n\n\n\n*****************\n\nSi no eres socio y vienes a probar tu primera ruta\, por favor\, apúntate en este enlace.\nUna vez apuntado no hace falta que te confirmemos nada ... simplemente preséntate en el punto de encuentro y hora indicados en la ficha de la ruta con tu bici preparada. Se bienvenido! \n\n\nNO SOCIOS\, INSCRIPCION Y NORMAS\n\n\n
URL:https://www.clubruta88.com/ruta/la-ermita-de-colmenarejo-desde-villanueva-del-pardillo/
LOCATION:España
GEO:40.491278;-3.960632
CATEGORIES:Ruta verde
END:VEVENT
BEGIN:VEVENT
DTSTART;VALUE=DATE:20241013
DTEND;VALUE=DATE:20241013
DTSTAMP:20260423T144036
CREATED:20241011
LAST-MODIFIED:20241011
UID:78488-1728777600-1728863999@www.clubruta88.com
SUMMARY:DE PITIS A SOTO (GRUPO A)
DESCRIPTION:Ruta de carretera en la que llegaremos hasta Soto del Real\n\nLa salida la haremos desde Pitis por lo que os ponemos facil el poder llegar en trasporte público o directamente montados.\n\nEl grupo A llevará un ritmo más vivo y recorrerá unos 100Km. Si quieres algo más relajado\, tambien habra Grupo B. \n\nEn ambos niveles habrá parada para cafelito en Soto. 😉 \n\n*****************\n\nSi no eres socio y vienes a probar tu primera ruta\, por favor\, apúntate en este enlace.\nUna vez apuntado no hace falta que te confirmemos nada ... simplemente preséntate en el punto de encuentro y hora indicados en la ficha de la ruta con tu bici preparada. Se bienvenido! \n\n\nNO SOCIOS\, INSCRIPCION Y NORMAS\n\n\n
URL:https://www.clubruta88.com/ruta/de-pitis-a-soto-grupo-a/
LOCATION:España
GEO:40.495249;-3.725648
CATEGORIES:Ruta de carretera
END:VEVENT
BEGIN:VEVENT
DTSTART;VALUE=DATE:20241013
DTEND;VALUE=DATE:20241013
DTSTAMP:20260423T144036
CREATED:20241011
LAST-MODIFIED:20241011
UID:78817-1728777600-1728863999@www.clubruta88.com
SUMMARY:DE PITIS A SOTO (GRUPO B)
DESCRIPTION:Ruta de carretera en la que llegaremos hasta Soto del Real\n\nLa salida la haremos desde Pitis por lo que os ponemos fácil el poder llegar en trasporte público o directamente montados.\n\nEl grupo B llevará un ritmo más relajado y recorrerá unos 88Km. Si quieres algo más intenso\, también habrá Grupo A. \n\nEn ambos niveles habrá parada para cafelito en Soto. 😉 \n\n*****************\n\nSi no eres socio y vienes a probar tu primera ruta\, por favor\, apúntate en este enlace.\nUna vez apuntado no hace falta que te confirmemos nada ... simplemente preséntate en el punto de encuentro y hora indicados en la ficha de la ruta con tu bici preparada. Se bienvenido! \n\n\nNO SOCIOS\, INSCRIPCION Y NORMAS\n\n\n
URL:https://www.clubruta88.com/ruta/de-pitis-a-soto-grupo-b/
LOCATION:España
GEO:40.495249;-3.725648
CATEGORIES:Ruta de carretera
END:VEVENT
END:VCALENDAR