BEGIN:VCALENDAR
VERSION:2.0
PRODID:-//Club Ciclista Ruta 88 (antes Club Mammoth) - ECPv4.2.1.1//NONSGML v1.0//EN
CALSCALE:GREGORIAN
METHOD:PUBLISH
X-WR-CALNAME:Club Ciclista Ruta 88 (antes Club Mammoth)
X-ORIGINAL-URL:https://www.clubruta88.com
X-WR-CALDESC:Events for Club Ciclista Ruta 88 (antes Club Mammoth)
BEGIN:VEVENT
DTSTART;VALUE=DATE:20241026
DTEND;VALUE=DATE:20241026
DTSTAMP:20260422T200540
CREATED:20241024
LAST-MODIFIED:20241025
UID:78824-1729900800-1729987199@www.clubruta88.com
SUMMARY:LA ERMITA DE NAVAHONDA
DESCRIPTION:NOTA:Tras la mejora de la previsión del tiempo\, queda confirmada esta ruta. Incluso parece que pueda haber solete a las horas de la ruta! \n\nPara el nivel rojo Sergio nos propone esta ruta en la que tendrás trialeras emblemáticas y muy disfrutables\, senderos y alguna pista rápida de transición con vistas preciosas de la sierra entre Abantos\, Las Machotas y la Sierra Oeste.\n\n*****************\n\nEsta ruta\, por sus características\, queda reservada a socios. Si quieres venir a conocernos mira el resto de opciones que te proponemos el fin de semana.\n\n\n\n\n\n
URL:https://www.clubruta88.com/ruta/la-ermita-de-navahonda-12/
LOCATION:España
GEO:40.575905;-4.152906
CATEGORIES:Ruta roja
END:VEVENT
END:VCALENDAR