BEGIN:VCALENDAR
VERSION:2.0
PRODID:-//Club Ciclista Ruta 88 (antes Club Mammoth) - ECPv4.2.1.1//NONSGML v1.0//EN
CALSCALE:GREGORIAN
METHOD:PUBLISH
X-WR-CALNAME:Club Ciclista Ruta 88 (antes Club Mammoth)
X-ORIGINAL-URL:https://www.clubruta88.com
X-WR-CALDESC:Events for Club Ciclista Ruta 88 (antes Club Mammoth)
BEGIN:VEVENT
DTSTART;VALUE=DATE:20241027
DTEND;VALUE=DATE:20241027
DTSTAMP:20260422T183921
CREATED:20241023
LAST-MODIFIED:20241026
UID:78822-1729987200-1730073599@www.clubruta88.com
SUMMARY:CAÑADA REAL SEGOVIANA Y SENDEROS DE VALMAYOR
DESCRIPTION:NOTA1: La ruta queda confirmada tras estabilizarse las previsiones y que en estos momentos varios servicios meteorológicos aseguran una ventana de tiempo suficiente para hacer la ruta de forma cómoda.\n\nNOTA2: No te despistes! En la madrugada del sábado al domingo cambia la hora. Ya sabes\, a las 0300 serán las 0200. Bueno\, si te despistas y te presentas y no hay nadie ... tomate un cafecito que en una hora llegamos!😁 \n\nEn esta ruta empezaremos nuestro recorrido por la Cañada Real Segoviana para terminar llegando hasta  Valmayor.\n\nUna vez allí transitaremos por sus dehesas y también haremos alguno de los divertidos senderos que lo rodean.\n\n\n*****************\n\nSi no eres socio y vienes a probar tu primera ruta\, por favor\, apúntate en este enlace.\nUna vez apuntado no hace falta que te confirmemos nada ... simplemente preséntate en el punto de encuentro y hora indicados en la ficha de la ruta con tu bici preparada. Se bienvenido! \n\n\nNO SOCIOS\, INSCRIPCION Y NORMAS\n\n\n
URL:https://www.clubruta88.com/ruta/canada-real-segoviana-y-senderos-de-valmayor/
LOCATION:España
GEO:40.635364;-4.021692
CATEGORIES:Ruta verde
END:VEVENT
BEGIN:VEVENT
DTSTART;VALUE=DATE:20241027
DTEND;VALUE=DATE:20241027
DTSTAMP:20260422T183921
CREATED:20241023
LAST-MODIFIED:20241026
UID:78823-1729987200-1730073599@www.clubruta88.com
SUMMARY:CAÑADA REAL SEGOVIANA Y VUELTA A VALMAYOR
DESCRIPTION:NOTA1: La ruta queda confirmada tras estabilizarse las previsiones y que en estos momentos varios servicios meteorológicos aseguran una ventana de tiempo suficiente para hacer la ruta de forma cómoda.\n\nNOTA2: No te despistes! En la madrugada del sábado al domingo cambia la hora. Ya sabes\, a las 0300 serán las 0200. Bueno\, si te despistas y te presentas y no hay nadie ... tomate un cafecito que en una hora llegamos!😁 \n\nEn esta ruta empezaremos nuestro recorrido por la Cañada Real Segoviana y llegaremos al pantano de Valmayor.\n\nUna vez allí daremos una vuelta completa al mismo y también al de Los Arroyos.\n\nPor el camino no dejaremos de disfrutar de los divertidos senderos de la zona\n\nAdvertir también que\, para poder dar la vuelta al pantano sin dar un gran rodeo que excedería el nivel azul deberemos transitar unos 4km por la M-510. En particular transitaremos por encima de la propia presa y sus correspondientes tramos de entrada y salida. Vamos que en ese tramo nos convertiremos en carreteros. 😒 (con todo mi cariño para ellos ... 😘😁). No nos queda otra.\n\n*****************\n\nSi no eres socio y vienes a probar tu primera ruta\, por favor\, apúntate en este enlace.\nUna vez apuntado no hace falta que te confirmemos nada ... simplemente preséntate en el punto de encuentro y hora indicados en la ficha de la ruta con tu bici preparada. Se bienvenido! \n\n\nNO SOCIOS\, INSCRIPCION Y NORMAS\n\n\n
URL:https://www.clubruta88.com/ruta/canada-real-segoviana-y-vuelta-a-valmayor/
LOCATION:España
GEO:40.635364;-4.021692
CATEGORIES:Ruta azul
END:VEVENT
BEGIN:VEVENT
DTSTART;VALUE=DATE:20241027
DTEND;VALUE=DATE:20241027
DTSTAMP:20260422T183921
CREATED:20241024
LAST-MODIFIED:20241024
UID:78825-1729987200-1730073599@www.clubruta88.com
SUMMARY:EL MIRADOR DEL ATAZAR
DESCRIPTION:Ruta de carretera por la sierra Norte de Madrid. Saldremos de Colmenar Viejo hacia Guadalix de la Sierra\, Torrelaquna\, pasaremos por Patones para subir al Mirador del Atazar que nos ofrecerá unas vistas de la presa del Atazar impresionantes. \nEntonces llegaremos al Berrueco\, subiremos a la Cabrera\, Valdemanco\, Navalafuente\, Guadalix de la Sierra y para llegar al final de la ruta en Colmenar Viejo.\n\n*****************\n\nSi no eres socio y vienes a probar tu primera ruta\, por favor\, apúntate en este enlace.\nUna vez apuntado no hace falta que te confirmemos nada ... simplemente preséntate en el punto de encuentro y hora indicados en la ficha de la ruta con tu bici preparada. Se bienvenido! \n\n\nNO SOCIOS\, INSCRIPCION Y NORMAS\n\n\n
URL:https://www.clubruta88.com/ruta/el-mirador-del-atazar-3/
LOCATION:España
GEO:40.670128;-3.769579
CATEGORIES:Ruta de carretera
END:VEVENT
END:VCALENDAR