BEGIN:VCALENDAR
VERSION:2.0
PRODID:-//Club Ciclista Ruta 88 (antes Club Mammoth) - ECPv4.2.1.1//NONSGML v1.0//EN
CALSCALE:GREGORIAN
METHOD:PUBLISH
X-WR-CALNAME:Club Ciclista Ruta 88 (antes Club Mammoth)
X-ORIGINAL-URL:https://www.clubruta88.com
X-WR-CALDESC:Events for Club Ciclista Ruta 88 (antes Club Mammoth)
BEGIN:VEVENT
DTSTART;VALUE=DATE:20241102
DTEND;VALUE=DATE:20241102
DTSTAMP:20260422T093413
CREATED:20241030
LAST-MODIFIED:20241030
UID:78826-1730505600-1730591999@www.clubruta88.com
SUMMARY:LA CRUZ DE LA BOCA DEL VALLE
DESCRIPTION:Saldremos desde Tres Cantos por pista\, teniendo siempre a la vista la tapia del Soto de Viñuelas hasta alcanzar luego su extremo norte.\n\nA partir de ahí la ruta será un mix de pistas y senderos con zonas técnicas de subida y bajada que nos llevarán a rodear la Dehesa de Moncalvillo y a no tocar ninguna población. En su punto mas alejado llegaremos casi hasta tocar la Urbanización Montenebro pero sin entrar en ella.\n\nUna ruta para admirar y divertirnos por los paisajes de esta zona.\n\n\n*****************\n\nSi no eres socio y vienes a probar tu primera ruta\, por favor\, apúntate en este enlace.\nUna vez apuntado no hace falta que te confirmemos nada ... simplemente preséntate en el punto de encuentro y hora indicados en la ficha de la ruta con tu bici preparada. Se bienvenido! \n\n\nNO SOCIOS\, INSCRIPCION Y NORMAS\n\n\n
URL:https://www.clubruta88.com/ruta/la-cruz-de-la-boca-del-valle-13/
LOCATION:España
GEO:40.594664;-3.701314
CATEGORIES:Ruta roja
END:VEVENT
BEGIN:VEVENT
DTSTART;VALUE=DATE:20241102
DTEND;VALUE=DATE:20241102
DTSTAMP:20260422T093413
CREATED:20241030
LAST-MODIFIED:20241101
UID:78828-1730505600-1730591999@www.clubruta88.com
SUMMARY:SOTO DE VIÑUELAS
DESCRIPTION:En esta ruta bordearemos el Soto de Viñuelas que es un impresionante (y privado) espacio natural enclavado entre las poblaciones de Tres Cantos y San Sebastián de los Reyes.\n\nSin demasiada dificultad técnica el recorrido será principalmente por pista o incluso un tramo de carril bici aunque también tendremos tramos de senderos donde la dificultad la marca la velocidad\n\nRespecto del nivel verde\, para aquellos que estén dudando\, añadimos un pequeño bucle en la Dehesa Boyal que es donde va la diferencia de km/m y también haremos la ruta en sentido antihorario para que no nos resulten tan conocidos algunos caminos ... 😉\n\n\n*****************\n\nSi no eres socio y vienes a probar tu primera ruta\, por favor\, apúntate en este enlace.\nUna vez apuntado no hace falta que te confirmemos nada ... simplemente preséntate en el punto de encuentro y hora indicados en la ficha de la ruta con tu bici preparada. Se bienvenido! \n\n\nNO SOCIOS\, INSCRIPCION Y NORMAS\n\n\n
URL:https://www.clubruta88.com/ruta/tres-cantos-6/
LOCATION:España
GEO:40.594664;-3.701314
CATEGORIES:Ruta azul
END:VEVENT
BEGIN:VEVENT
DTSTART;VALUE=DATE:20241102
DTEND;VALUE=DATE:20241102
DTSTAMP:20260422T093413
CREATED:20241030
LAST-MODIFIED:20241101
UID:78829-1730505600-1730591999@www.clubruta88.com
SUMMARY:EL SOTO DE VIÑUELAS
DESCRIPTION:En esta ruta bordearemos el Soto de Viñuelas que es un impresionante (y privado) espacio natural enclavado entre las poblaciones de Tres Cantos y San Sebastián de los Reyes.\n\nSin demasiada dificultad técnica el recorrido será principalmente por pista o incluso un tramo de carril bici aunque también tendremos tramos de senderos donde la dificultad la marca la velocidad\n\n*****************\n\nSi no eres socio y vienes a probar tu primera ruta\, por favor\, apúntate en este enlace.\nUna vez apuntado no hace falta que te confirmemos nada ... simplemente preséntate en el punto de encuentro y hora indicados en la ficha de la ruta con tu bici preparada. Se bienvenido! \n\n\nNO SOCIOS\, INSCRIPCION Y NORMAS\n\n\n
URL:https://www.clubruta88.com/ruta/vuelta-al-soto-de-vinuelas-4/
LOCATION:España
GEO:40.594664;-3.701314
CATEGORIES:Ruta verde
END:VEVENT
END:VCALENDAR