BEGIN:VCALENDAR
VERSION:2.0
PRODID:-//Club Ciclista Ruta 88 (antes Club Mammoth) - ECPv4.2.1.1//NONSGML v1.0//EN
CALSCALE:GREGORIAN
METHOD:PUBLISH
X-WR-CALNAME:Club Ciclista Ruta 88 (antes Club Mammoth)
X-ORIGINAL-URL:https://www.clubruta88.com
X-WR-CALDESC:Events for Club Ciclista Ruta 88 (antes Club Mammoth)
BEGIN:VEVENT
DTSTART;VALUE=DATE:20241109
DTEND;VALUE=DATE:20241109
DTSTAMP:20260421T224038
CREATED:20241104
LAST-MODIFIED:20241104
UID:78832-1731110400-1731196799@www.clubruta88.com
SUMMARY:LA DEL COBRE
DESCRIPTION:Sonia y Germán siguen adaptando y haciéndonos redescubrir los recorridos que hacen en sus carreras para que nosotros también disfrutemos a otro ritmo\n\nEn esta ocasión reeditaremos el recorrido de "La del Cobre" del circuito Scott 7*.\n\nSaliendo de Villanueva del Pardillo iremos hacia la zona de Las Cuestas para luego ir girando en un amplio circulo por los montes de la zona y terminar volviendo por Villanueva de la Cañada.\n\nUna ruta que no destaca tanto por su técnica (tu decides muchas veces la dificultad de las bajadas con la velocidad) sino por la constancia que hay que tener en algunas subidas.\n\n\n\n*****************\n\nEsta ruta\, por sus características\, queda reservada a socios. Si quieres venir a conocernos mira el resto de opciones que te proponemos.\n\n\n\n\n\n
URL:https://www.clubruta88.com/ruta/la-del-cobre/
LOCATION:España
GEO:40.491278;-3.960632
CATEGORIES:Ruta roja
END:VEVENT
END:VCALENDAR