BEGIN:VCALENDAR
VERSION:2.0
PRODID:-//Club Ciclista Ruta 88 (antes Club Mammoth) - ECPv4.2.1.1//NONSGML v1.0//EN
CALSCALE:GREGORIAN
METHOD:PUBLISH
X-WR-CALNAME:Club Ciclista Ruta 88 (antes Club Mammoth)
X-ORIGINAL-URL:https://www.clubruta88.com
X-WR-CALDESC:Events for Club Ciclista Ruta 88 (antes Club Mammoth)
BEGIN:VEVENT
DTSTART;VALUE=DATE:20250518
DTEND;VALUE=DATE:20250518
DTSTAMP:20260419T152013
CREATED:20250514
LAST-MODIFIED:20250514
UID:78945-1747526400-1747612799@www.clubruta88.com
SUMMARY:LA GRAN VUELTA (MARATON)
DESCRIPTION:La propuesta de Jorge para esta semana es una maratón  para tragar kilometros en una ruta que mayoritariamente será pistera. Una de las de sentirse vacio pero con buenas sensaciones al acabarla.\n\nDesde San Sebastián de los Reyes pasaremos por Fuente del Fresno y Ciudalcampo para seguir hacia el norte y llegar hasta el puente medieval de la M607.La vuelta será por el Puente de la Marmota y Tres Cantos.\n\n\n\n*****************\n\nSi no eres socio y vienes a probar tu primera ruta\, por favor\, apúntate en este enlace.\n\n\nNO SOCIOS\, INSCRIPCION Y NORMAS\n
URL:https://www.clubruta88.com/ruta/la-gran-vuelta-maraton-3/
LOCATION:España
GEO:40.560783;-3.620967
CATEGORIES:Ruta roja
END:VEVENT
END:VCALENDAR