BEGIN:VCALENDAR
VERSION:2.0
PRODID:-//Club Ciclista Ruta 88 (antes Club Mammoth) - ECPv4.2.1.1//NONSGML v1.0//EN
CALSCALE:GREGORIAN
METHOD:PUBLISH
X-WR-CALNAME:Club Ciclista Ruta 88 (antes Club Mammoth)
X-ORIGINAL-URL:https://www.clubruta88.com
X-WR-CALDESC:Events for Club Ciclista Ruta 88 (antes Club Mammoth)
BEGIN:VEVENT
DTSTART;VALUE=DATE:20250523
DTEND;VALUE=DATE:20250523
DTSTAMP:20260419T230630
CREATED:20250516
LAST-MODIFIED:20250516
UID:78940-1747958400-1748044799@www.clubruta88.com
SUMMARY:PRUEBA DE TALLAS DE NUEVA EQUIPACION
DESCRIPTION:NOTA:Para ayudar a que todo el mundo tenga tiempo de elegir bien bien su talla y no tenga problemas\, vamos a cancelar las rutas de este fin de semana.\n\nComo sabéis tenemos ya nueva equipación!!!\n\nY para asegurarnos que a todo el mundo le queda como un guante\, de la mano de nuestro proveedor\, se ha preparado un muestrario de tallas para que puedas probártelo.\n\nSerá los días 23\, 24 y 25. Es necesaria inscripción y puedes formalizarla aquí:\n\nCITA PARA EL TALLAJE\n\nSi lo tienes todo claro también puedes ya realizar tu pedido de ropa hasta el día 01/06/2025.  En el propio formulario de pedido te indicamos los modelos exactos de Gobik que utilizaremos por si te son ya conocidos. El pedido de ropa lo puedes realizar aqui:\n\nPEDIDO DE ROPA\n\nUnas observaciones:\n\n\n\n\tEl club no contará como antiguamente con stock continuo de ropa\, sino que los pedidos se formalizarán en fechas concretas a lo largo del año (3-4 ventanas/periodos a lo largo del año).\n\n\n\n\tAl ser un producto personalizado\, no se admiten devoluciones excepto por tara. Asegúrate de elegir bien tu talla!\n\n\n\tLas citas del 23 serán en Torres de la Alameda\, en el domicilio del proveedor. Las del 24 y 25 en Las Rozas. En breve os actualizaremos la dirección concreta de esta última.\n\n\n\n\n\tEl club quiere potenciar el cambio de imagen y es por ello que subvencionará este primer pedido con 30€ por socio si cumples determinadas condiciones. Tienes la información en el propio formulario de pedido.\n\n\n\n\n\n\n\n\n\n\n\n
URL:https://www.clubruta88.com/ruta/prueba-de-tallas-de-ropa-nueva-equipacion-2/
CATEGORIES:Escapada (Club)
END:VEVENT
END:VCALENDAR