BEGIN:VCALENDAR
VERSION:2.0
PRODID:-//Club Ciclista Ruta 88 (antes Club Mammoth) - ECPv4.2.1.1//NONSGML v1.0//EN
CALSCALE:GREGORIAN
METHOD:PUBLISH
X-WR-CALNAME:Club Ciclista Ruta 88 (antes Club Mammoth)
X-ORIGINAL-URL:https://www.clubruta88.com
X-WR-CALDESC:Events for Club Ciclista Ruta 88 (antes Club Mammoth)
BEGIN:VEVENT
DTSTART;VALUE=DATE:20250531
DTEND;VALUE=DATE:20250531
DTSTAMP:20260422T112931
CREATED:20250518
LAST-MODIFIED:20250518
UID:78937-1748649600-1748735999@www.clubruta88.com
SUMMARY:LA CHORRERA DE LOS LITUEROS
DESCRIPTION:AVISO: Somosierra es un pueblo pequeñito y sin un parking grande. Ponemos el punto de encuentro en un sitio cómodo para salir con la bici pero lo más seguro es que quizá te toque brujulear hasta dar el coche por aparcado. Montado en bici enseguida llegaras al punto de salida.\n\nEspectacular ruta que han estado preparando nuestros guías para llevarnos hasta un terreno técnicamente inexplorado por el club.\n\nCuantas veces habremos pasado con el coche por el puerto de Somosierra y admirado sus paisajes. Pues ahora podrás sumergirte en esos bosques de la Sierra Norte de Madrid y\, por supuesto\, visitar la Chorrera de Los Litueros que desde la autovía también se ve.\n\nCon alrededor de 40m de alto es la más alta de la región y no es otra que el nacimiento del río Duratón. Con las últimas lluvias además\, esta a reventar.\n\nSi te estás preguntando si la ruta merece el viaje hasta allí... la respuesta es un rotundo Si! Esta es una ruta de esas que te deja el paisaje grabado en la retina.\n\nEn particular en el nivel verde saldremos desde Somosierra para. cogiendo un tramo de La Horizontal\, girar hacia Robregordo. \nCruzaremos después la autovía para transitar por Sierra Cebollera y sus bosques para  dirigirnos finalmente hacia los miradores para admirar La Chorrera y volver a Somosierra.\n\nUna vez en Somosierra para quien quiera y añadido a los números publicados\, Carlos ofrecerá un pequeño bucle para ira hasta la misma base de la cascada.\n\nEl precio a pagar por estar en pleno puerto de Somosierra es un desnivel acumulado algo más alto de lo habitual\, pero por contra el trazado será en su mayoría pista de fácil rodar.\n\n\n*****************\n\nSi no eres socio y vienes a probar tu primera ruta\, por favor\, apúntate en este enlace.\nUna vez apuntado no hace falta que te confirmemos nada ... simplemente preséntate en el punto de encuentro y hora indicados en la ficha de la ruta con tu bici preparada. Se bienvenido! \n\n\nNO SOCIOS\, INSCRIPCION Y NORMAS\n\n
URL:https://www.clubruta88.com/ruta/la-chorrera-de-los-litueros/
LOCATION:España
GEO:41.134924;-3.58138
CATEGORIES:Ruta verde
END:VEVENT
BEGIN:VEVENT
DTSTART;VALUE=DATE:20250531
DTEND;VALUE=DATE:20250531
DTSTAMP:20260422T112931
CREATED:20250518
LAST-MODIFIED:20250518
UID:78941-1748649600-1748735999@www.clubruta88.com
SUMMARY:LA CHORRERA DE LOS LITUEROS
DESCRIPTION:AVISO: Somosierra es un pueblo pequeñito y sin un parking grande. Ponemos el punto de encuentro en un sitio cómodo para salir con la bici pero lo más seguro es que quizá te toque brujulear hasta dar el coche por aparcado. Montado en bici enseguida llegaras al punto de salida.\n\n\n\nEspectacular ruta que han estado preparando nuestros guías para llevarnos hasta un terreno técnicamente inexplorado por el club.\n\nCuantas veces habremos pasado con el coche por el puerto de Somosierra y admirado sus paisajes. Pues ahora podrás sumergirte en esos bosques de la Sierra Norte de Madrid y\, por supuesto\, visitar la Chorrera de Los Litueros que desde la autovía también se ve.\n\nCon alrededor de 40m de alto es la más alta de la región y no es otra que el nacimiento del río Duratón. Con las últimas lluvias además\, esta a reventar.\n\nSi te estás preguntando si la ruta merece el viaje hasta allí... la respuesta es un rotundo Si! Esta es una ruta de esas que te deja el paisaje grabado en la retina.\n\nEn particular en el nivel azul saldremos desde Somosierra para recorrer La Horizontal y llegar hasta La Acebeda y Robregordo. \nCruzaremos después la autovía para transitar por Sierra Cebollera y sus bosques para  dirigirnos finalmente hacia los miradores para admirar La Chorrera y volver a Somosierra.\n\nEl precio a pagar por estar en pleno puerto de Somosierra es un desnivel acumulado algo más alto de lo habitual\, pero por contra el trazado será en su mayoría pista de fácil rodar.\n\n\n\n\n*****************\n\nSi no eres socio y vienes a probar tu primera ruta\, por favor\, apúntate en este enlace.\nUna vez apuntado no hace falta que te confirmemos nada ... simplemente preséntate en el punto de encuentro y hora indicados en la ficha de la ruta con tu bici preparada. Se bienvenido! \n\n\nNO SOCIOS\, INSCRIPCION Y NORMAS\n\n
URL:https://www.clubruta88.com/ruta/la-chorrera-de-los-litueros-2/
LOCATION:España
GEO:41.134924;-3.58138
CATEGORIES:Ruta azul
END:VEVENT
END:VCALENDAR