BEGIN:VCALENDAR
VERSION:2.0
PRODID:-//Club Ciclista Ruta 88 (antes Club Mammoth) - ECPv4.2.1.1//NONSGML v1.0//EN
CALSCALE:GREGORIAN
METHOD:PUBLISH
X-WR-CALNAME:Club Ciclista Ruta 88 (antes Club Mammoth)
X-ORIGINAL-URL:https://www.clubruta88.com
X-WR-CALDESC:Events for Club Ciclista Ruta 88 (antes Club Mammoth)
BEGIN:VEVENT
DTSTART;VALUE=DATE:20250607
DTEND;VALUE=DATE:20250607
DTSTAMP:20260422T214258
CREATED:20240110
LAST-MODIFIED:20250605
UID:79019-1749254400-1749340799@www.clubruta88.com
SUMMARY:VUELTA AL MONTE PENDON
DESCRIPTION:NOTA: No te despistes!!! Adelantamos la hora de salida para aprovechar el sol y escapar en la medida de lo posible de algo de calor.\n\nVersión roja de la clásica Vuelta al Pendón\, por los senderos de Navalafuente\, Bustarviejo y Valdemanco.\n\n\n\n\n
URL:https://www.clubruta88.com/ruta/vuelta-al-monte-pendon-8-2/
LOCATION:España
GEO:40.822145;-3.677268
CATEGORIES:Ruta roja
END:VEVENT
END:VCALENDAR