BEGIN:VCALENDAR
VERSION:2.0
PRODID:-//Club Ciclista Ruta 88 (antes Club Mammoth) - ECPv4.2.1.1//NONSGML v1.0//EN
CALSCALE:GREGORIAN
METHOD:PUBLISH
X-WR-CALNAME:Club Ciclista Ruta 88 (antes Club Mammoth)
X-ORIGINAL-URL:https://www.clubruta88.com
X-WR-CALDESC:Events for Club Ciclista Ruta 88 (antes Club Mammoth)
BEGIN:VEVENT
DTSTART;VALUE=DATE:20250614
DTEND;VALUE=DATE:20250614
DTSTAMP:20260423T073638
CREATED:20250601
LAST-MODIFIED:20250601
UID:78946-1749859200-1749945599@www.clubruta88.com
SUMMARY:CAÑADAS Y SENDEROS DE VALDEMORILLO
DESCRIPTION:Una de las clásicas de Juanki que siempre reinventa un poco para sorprendernos (y que disfrutemos aún mas) cada vez\n\nRuta por pistas y divertidos senderos que discurre por la zona entre Valdemorillo\, Zarzalejo y Peralejo.\n\nSin una gran dificultad técnica\, pasaremos\, entre otros\, por los senderos de la Calzada Romana de Zarzalejo y el camino de Peralejo y por la ermita de Valmayor.\n\n\n*****************\n\n\nSi no eres socio y vienes a probar tu primera ruta\, por favor\, apúntate en este enlace.\nUna vez apuntado no hace falta que te confirmemos nada ... simplemente preséntate en el punto de encuentro y hora indicados en la ficha de la ruta con tu bici preparada. Se bienvenido! \n\n\nNO SOCIOS\, INSCRIPCION Y NORMAS\n\n
URL:https://www.clubruta88.com/ruta/canadas-y-senderos-de-valdemorillo-5/
LOCATION:España
GEO:40.497699;-4.063943
CATEGORIES:Ruta azul
END:VEVENT
BEGIN:VEVENT
DTSTART;VALUE=DATE:20250614
DTEND;VALUE=DATE:20250614
DTSTAMP:20260423T073638
CREATED:20250603
LAST-MODIFIED:20250603
UID:78949-1749859200-1749945599@www.clubruta88.com
SUMMARY:VALDEMORILLO
DESCRIPTION:La ruta verde de este fin de semana comparte en buena medida el recorrido de la azul\, pero eliminando un par de tramos para rebajar la física y la técnica.\n\nLo que no se rebaja un ápice es la diversión y lo espectacular de la zona incluyendo\, en la medida de lo posible\, visita a la Playa del Embalse de Valmayor.\n\n\n*****************\n\nSi no eres socio y vienes a probar tu primera ruta\, por favor\, apúntate en este enlace.\nUna vez apuntado no hace falta que te confirmemos nada ... simplemente preséntate en el punto de encuentro y hora indicados en la ficha de la ruta con tu bici preparada. Se bienvenido! \n\n\nNO SOCIOS\, INSCRIPCION Y NORMAS\n\n
URL:https://www.clubruta88.com/ruta/valdemorillo-10/
LOCATION:España
GEO:40.497699;-4.063943
CATEGORIES:Ruta verde
END:VEVENT
END:VCALENDAR