BEGIN:VCALENDAR
VERSION:2.0
PRODID:-//Club Ciclista Ruta 88 (antes Club Mammoth) - ECPv4.2.1.1//NONSGML v1.0//EN
CALSCALE:GREGORIAN
METHOD:PUBLISH
X-WR-CALNAME:Club Ciclista Ruta 88 (antes Club Mammoth)
X-ORIGINAL-URL:https://www.clubruta88.com
X-WR-CALDESC:Events for Club Ciclista Ruta 88 (antes Club Mammoth)
BEGIN:VEVENT
DTSTART;VALUE=DATE:20250615
DTEND;VALUE=DATE:20250615
DTSTAMP:20260423T090615
CREATED:20250603
LAST-MODIFIED:20250613
UID:79025-1749945600-1750031999@www.clubruta88.com
SUMMARY:EL CASTILLO Y LA TORRE (GRAVEL Y MTB)
DESCRIPTION:Recorreremos pistas rápidas y desafiantes\, haremos senderos algo exigentes e incluso alguna que otra piedra.\n\nSerá una ruta desafiante para la gravel\, prepárate para echar pie al suelo alguna vez. Si vienes con MTB no te vas a aburrir. \n\nEl ritmo será rápido\, iremos bastante ágiles para combatir el calor y trataremos de parar varias veces\n\n*****************\n\nSi no eres socio y vienes a probar tu primera ruta\, por favor\, apúntate en este enlace.\nUna vez apuntado no hace falta que te confirmemos nada ... simplemente preséntate en el punto de encuentro y hora indicados en la ficha de la ruta con tu bici preparada. Se bienvenido! \n\n\nNO SOCIOS\, INSCRIPCION Y NORMAS\n\n
URL:https://www.clubruta88.com/ruta/el-castillo-y-la-torre-gravel-y-mtb/
LOCATION:España
GEO:40.447806;-3.996028
CATEGORIES:Ruta roja
END:VEVENT
BEGIN:VEVENT
DTSTART;VALUE=DATE:20250615
DTEND;VALUE=DATE:20250615
DTSTAMP:20260423T090615
CREATED:20250612
LAST-MODIFIED:20250612
UID:79026-1749945600-1750031999@www.clubruta88.com
SUMMARY:EL CASAR
DESCRIPTION:En esta ruta de carretera llegaremos hasta El Casar.\n\nLlegaremos hasta ella\, saliendo desde Madrid\, pasando por Coslada\, Torrejón de Ardoz y Daganzo de Arriba.\n\nLa vuelta será por Fuente el Saz y Paracuellos.\n\n\n\n*****************\n\nSi no eres socio y vienes a probar tu primera ruta\, por favor\, apúntate en este enlace.\nUna vez apuntado no hace falta que te confirmemos nada ... simplemente preséntate en el punto de encuentro y hora indicados en la ficha de la ruta con tu bici preparada. Se bienvenido! \n\n\nNO SOCIOS\, INSCRIPCION Y NORMAS\n\n
URL:https://www.clubruta88.com/ruta/el-casar-3/
LOCATION:España
GEO:40.456694;-3.618398
CATEGORIES:Ruta de carretera
END:VEVENT
END:VCALENDAR