BEGIN:VCALENDAR
VERSION:2.0
PRODID:-//Club Ciclista Ruta 88 (antes Club Mammoth) - ECPv4.2.1.1//NONSGML v1.0//EN
CALSCALE:GREGORIAN
METHOD:PUBLISH
X-WR-CALNAME:Club Ciclista Ruta 88 (antes Club Mammoth)
X-ORIGINAL-URL:https://www.clubruta88.com
X-WR-CALDESC:Events for Club Ciclista Ruta 88 (antes Club Mammoth)
BEGIN:VEVENT
DTSTART;VALUE=DATE:20250621
DTEND;VALUE=DATE:20250621
DTSTAMP:20260423T181154
CREATED:20250613
LAST-MODIFIED:20250618
UID:79027-1750464000-1750550399@www.clubruta88.com
SUMMARY:RISCOS DE SAN MURIEL
DESCRIPTION:Héctor nos trae una de sus rutas habituales para este fin de semana.\n\nSerá una ruta donde predominarán las pistas\, pero eso no quita que tengamos varios senderitos muy top repartidos por toda la ruta.\n\nEmpezaremos calentando motores con un tramo de pista dirección Moralzarzal para enlazar con la Grunding\, que nos bajará hasta el Embalse de Santillana.\n\nContinuaremos nuestro trayecto bordeando La Pedriza por sus pueblos de El Boalo y Mataelpino. En los últimos kilómetros disfrutaremos de unas cuántas trialeras para llegar a los coches con una sonrisa.\n\nSan Muriel o Samburiel es el nombre del río que baja desde el Embalse de Navacerrada hasta el Embalse de Santillana. Toda la ruta estará presidida por los Riscos de La Pedriza y el Cerro del Telégrafo.\n\nHay fuente a mitad de ruta.\n\nAl final de ruta podremos recuperarnos y comentar la ruta en el bar El Álamo.\n\n*****************\n\nSi no eres socio y vienes a probar tu primera ruta\, por favor\, apúntate en este enlace.\nUna vez apuntado no hace falta que te confirmemos nada ... simplemente preséntate en el punto de encuentro y hora indicados en la ficha de la ruta con tu bici preparada. Se bienvenido! \n\n\nNO SOCIOS\, INSCRIPCION Y NORMAS\n\n
URL:https://www.clubruta88.com/ruta/riscos-de-san-muriel-3/
LOCATION:España
GEO:40.642168050265;-3.9963123183126
CATEGORIES:Ruta roja
END:VEVENT
END:VCALENDAR