BEGIN:VCALENDAR
VERSION:2.0
PRODID:-//Club Ciclista Ruta 88 (antes Club Mammoth) - ECPv4.2.1.1//NONSGML v1.0//EN
CALSCALE:GREGORIAN
METHOD:PUBLISH
X-WR-CALNAME:Club Ciclista Ruta 88 (antes Club Mammoth)
X-ORIGINAL-URL:https://www.clubruta88.com
X-WR-CALDESC:Events for Club Ciclista Ruta 88 (antes Club Mammoth)
BEGIN:VEVENT
DTSTART;VALUE=DATE:20250622
DTEND;VALUE=DATE:20250622
DTSTAMP:20260423T194806
CREATED:20250613
LAST-MODIFIED:20250618
UID:79028-1750550400-1750636799@www.clubruta88.com
SUMMARY:LA ERMITA DE SAN BLAS
DESCRIPTION:Para su estreno como guía (tu también puedes si quieres! 😉) Javier nos propone un recorrido desde Soto del Real.\n\nSaliendo desde Soto trazaremos un amplio circulo que nos llevará een su punto más alejado hasta Miraflores de la Sierra pasando por la Ermita de San Blas que da nombre a la ruta.\n\nLa ruta es verde\, fundamentalmente pistera aunque hay dos zonas técnicas. La primera un bucle así que quien no quiera hacerla puede esperar unos minuto y la segunda habrá que poner pie en tierra algunos metros (poca cosa).\n\n\n*****************\n\nSi no eres socio y vienes a probar tu primera ruta\, por favor\, apúntate en este enlace.\nUna vez apuntado no hace falta que te confirmemos nada ... simplemente preséntate en el punto de encuentro y hora indicados en la ficha de la ruta con tu bici preparada. Se bienvenido! \n\n\nNO SOCIOS\, INSCRIPCION Y NORMAS\n\n
URL:https://www.clubruta88.com/ruta/la-ermita-de-san-blas/
LOCATION:España
GEO:40.746727;-3.784994
CATEGORIES:Ruta verde
END:VEVENT
BEGIN:VEVENT
DTSTART;VALUE=DATE:20250622
DTEND;VALUE=DATE:20250622
DTSTAMP:20260423T194806
CREATED:20250613
LAST-MODIFIED:20250618
UID:79029-1750550400-1750636799@www.clubruta88.com
SUMMARY:SOTO DEL REAL
DESCRIPTION:Mario nos propone una rutita por “su jardín”\, con sendas divertidas y algunos pasos que nos harán poner a prueba nuestro nivel de técnica\, pero todo asumible (y el que se tenga que bajar\, pues se baja y ya está).\n\nLa mitad de la ruta es subir media pista de Morcuera\, fresca\, por la sombra del pinar. Hay agua en dicho punto (fuente de la Parada del Rey\, agua riquísima).\nLos números parecen pequeños\, pero no os fieis\, la zona es siempre durilla por el desnivel en pocos kilómetros.\n\nFrente al polideportivo de Soto tenemos un bar\, por lo que el “tercer tiempo” está asegurado.\n\n¡A divertirse!\n\n*****************\n\nSi no eres socio y vienes a probar tu primera ruta\, por favor\, apúntate en este enlace.\nUna vez apuntado no hace falta que te confirmemos nada ... simplemente preséntate en el punto de encuentro y hora indicados en la ficha de la ruta con tu bici preparada. Se bienvenido! \n\n\nNO SOCIOS\, INSCRIPCION Y NORMAS\n\n
URL:https://www.clubruta88.com/ruta/la-ermita-de-san-blas-2/
LOCATION:España
GEO:40.746727;-3.784994
CATEGORIES:Ruta azul
END:VEVENT
BEGIN:VEVENT
DTSTART;VALUE=DATE:20250622
DTEND;VALUE=DATE:20250622
DTSTAMP:20260423T194806
CREATED:20250618
LAST-MODIFIED:20250618
UID:79041-1750550400-1750636799@www.clubruta88.com
SUMMARY:TRES DE GUADARRAMA DESDE SOTO
DESCRIPTION:En esta ruta de carretera saldremos desde Soto\, para subirnos tres de los puertos mas conocidos de la Sierra de Guadarrama: Navacerrada\, Cotos y Morcuera.\n\nPara llegar a los dos primeros pasaremos por Manzanares y Mataelpino y para subir al tercero lo haremos desde Rascafría.\n\nEn definitiva un recorrido fresquito en altura en su parte central\, metido entre pinos para los calores que empiezan a apretar.\n\nAdemás\, como plus\, coincidimos en fecha y lugar con los de MTB. Mas gente para el postruta!. 😉\n\n*****************\n\nSi no eres socio y vienes a probar tu primera ruta\, por favor\, apúntate en este enlace.\nUna vez apuntado no hace falta que te confirmemos nada ... simplemente preséntate en el punto de encuentro y hora indicados en la ficha de la ruta con tu bici preparada. Se bienvenido! \n\n\nNO SOCIOS\, INSCRIPCION Y NORMAS\n\n
URL:https://www.clubruta88.com/ruta/tres-de-guadarrama-desde-soto/
LOCATION:España
GEO:40.746727;-3.784994
CATEGORIES:Ruta de carretera
END:VEVENT
END:VCALENDAR