BEGIN:VCALENDAR
VERSION:2.0
PRODID:-//Club Ciclista Ruta 88 (antes Club Mammoth) - ECPv4.2.1.1//NONSGML v1.0//EN
CALSCALE:GREGORIAN
METHOD:PUBLISH
X-WR-CALNAME:Club Ciclista Ruta 88 (antes Club Mammoth)
X-ORIGINAL-URL:https://www.clubruta88.com
X-WR-CALDESC:Events for Club Ciclista Ruta 88 (antes Club Mammoth)
BEGIN:VEVENT
DTSTART;VALUE=DATE:20250628
DTEND;VALUE=DATE:20250628
DTSTAMP:20260424T063010
CREATED:20250603
LAST-MODIFIED:20250627
UID:79023-1751068800-1751155199@www.clubruta88.com
SUMMARY:MIRAFLORES DE LA SIERRA
DESCRIPTION:Pequeño reto de verano.\n\nEsta semana a una ruta ¿Verde? con un puntito más de emoción:\n\nSaldremos desde Miraflores de la Sierra por la pista forestal para coronar el puerto de La Morcuera. La subida transcurre en su mayoría bajo la sombra del bosque\, lo que hará el ascenso mucho más llevadero a pesar de un desnivel algo superior al de nuestras rutas verdes habituales. No habrá complicaciones técnicas y mantendremos un ritmo tranquilo.\n\nEl regreso lo haremos descendiendo por el puerto de Canencia\, disfrutando de paisajes espectaculares. \n\n*****************\n\nSi no eres socio y vienes a probar tu primera ruta\, por favor\, apúntate en este enlace.\nUna vez apuntado no hace falta que te confirmemos nada ... simplemente preséntate en el punto de encuentro y hora indicados en la ficha de la ruta con tu bici preparada. Se bienvenido! \n\n\nNO SOCIOS\, INSCRIPCION Y NORMAS\n\n
URL:https://www.clubruta88.com/ruta/miraflores-de-la-sierra-2/
LOCATION:España
GEO:40.807027;-3.752326
CATEGORIES:Ruta verde
END:VEVENT
BEGIN:VEVENT
DTSTART;VALUE=DATE:20250628
DTEND;VALUE=DATE:20250628
DTSTAMP:20260424T063010
CREATED:20250603
LAST-MODIFIED:20250627
UID:79024-1751068800-1751155199@www.clubruta88.com
SUMMARY:MIRAFLORES DE LA SIERRA
DESCRIPTION:Pequeño reto de verano.\n\nEsta semana con ola de calor haremos una ruta con algo más de desnivel.\n\nSaldremos desde Miraflores de la Sierra por la pista forestal para coronar el puerto de La Morcuera. La subida transcurre en su mayoría bajo la sombra del bosque\, lo que hará el ascenso mucho más llevadero a pesar de un desnivel algo superior al de nuestras rutas azules habituales. No habrá complicaciones técnicas y mantendremos un ritmo tranquilo.\n\nEl regreso lo haremos descendiendo desde el puerto de Canencia hacia el arroyo del Valle por las pistas\, para terminar llegando al punto de partida por las vías del tren. \n\n*****************\n\nSi no eres socio y vienes a probar tu primera ruta\, por favor\, apúntate en este enlace.\nUna vez apuntado no hace falta que te confirmemos nada ... simplemente preséntate en el punto de encuentro y hora indicados en la ficha de la ruta con tu bici preparada. Se bienvenido! \n\n\nNO SOCIOS\, INSCRIPCION Y NORMAS\n\n
URL:https://www.clubruta88.com/ruta/miraflores-de-la-sierra-3/
LOCATION:España
GEO:40.807027;-3.752326
CATEGORIES:Ruta azul
END:VEVENT
END:VCALENDAR